View In:
ArcGIS JavaScript
ArcGIS Online Map Viewer
ArcGIS Earth
ArcMap
View Footprint In:
ArcGIS Online Map Viewer
Service Description: DSM lidar merupakan salah satu keluaran yang dihasilkan dari paket Data Geospasial Dasar dan Peta Rupabumi Indonesia (RBI) Wilayah Darat Skala 1:5.000 Kelas 1 dari Kamera Udara Metrik dan Lidar. Akuisisi di Kendari dilakukan pada 24 Maret 2024 hingga 5 Mei 2024. Pekerjaan ini dimaksudkan untuk digunakan sebagai sumber data pemetaan rupabumi Indonesia skala 1:5.000 Kelas 1, dan dikhususkan dalam rangka pemenuhan peta dasar skala besar seluruh Indonesia. DSM lidar dibentuk dengan menggunakan data masukan berupa: Data trajectory akuisisi; Data pengamatan GNSS base station dan antena di wahana; Data laser hasil akuisisi, serta Ground Control Point (GCP) dari hasil pengamatan GNSS di periode pekerjaan. DSM lidar, merupakan data ketinggian yang dibentuk dari kategori utama yaitu ground dan non-ground. Proses untuk menghasilkan DSM lidar meliputi proses strip adjustment untuk mengoreksi perbedaan ketinggian pada jalur akuisisi yang berbeda, klasifikasi otomatis dan manual untuk mengelompokkan point cloud ke kelasnya, kemudian dilakukan konversi ke bentuk raster bil. Proses tersebut dilakukan dengan mengggunakan perangkat lunak pengolah point cloud. Resolusi spasial (resampling) adalah 0,25 meter.
Name: DEMNAS/DSM_SULAWESI_KENDARI_2024_TILE
Description: DSM lidar merupakan salah satu keluaran yang dihasilkan dari paket Data Geospasial Dasar dan Peta Rupabumi Indonesia (RBI) Wilayah Darat Skala 1:5.000 Kelas 1 dari Kamera Udara Metrik dan Lidar. Akuisisi di Kendari dilakukan pada 24 Maret 2024 hingga 5 Mei 2024. Pekerjaan ini dimaksudkan untuk digunakan sebagai sumber data pemetaan rupabumi Indonesia skala 1:5.000 Kelas 1, dan dikhususkan dalam rangka pemenuhan peta dasar skala besar seluruh Indonesia. DSM lidar dibentuk dengan menggunakan data masukan berupa: Data trajectory akuisisi; Data pengamatan GNSS base station dan antena di wahana; Data laser hasil akuisisi, serta Ground Control Point (GCP) dari hasil pengamatan GNSS di periode pekerjaan. DSM lidar, merupakan data ketinggian yang dibentuk dari kategori utama yaitu ground dan non-ground. Proses untuk menghasilkan DSM lidar meliputi proses strip adjustment untuk mengoreksi perbedaan ketinggian pada jalur akuisisi yang berbeda, klasifikasi otomatis dan manual untuk mengelompokkan point cloud ke kelasnya, kemudian dilakukan konversi ke bentuk raster bil. Proses tersebut dilakukan dengan mengggunakan perangkat lunak pengolah point cloud. Resolusi spasial (resampling) adalah 0,25 meter.
Single Fused Map Cache: true
Tile Info:
- Height: 256
- Width: 256
- DPI: 96
-
Levels of Detail: 24
-
Level ID: 1
[ Start Tile, End Tile ]
- Resolution: 78271.5169639999
- Scale: 2.95828763795777E8
-
Level ID: 2
[ Start Tile, End Tile ]
- Resolution: 39135.7584820001
- Scale: 1.47914381897889E8
-
Level ID: 3
[ Start Tile, End Tile ]
- Resolution: 19567.8792409999
- Scale: 7.3957190948944E7
-
Level ID: 4
[ Start Tile, End Tile ]
- Resolution: 9783.93962049996
- Scale: 3.6978595474472E7
-
Level ID: 5
[ Start Tile, End Tile ]
- Resolution: 4891.96981024998
- Scale: 1.8489297737236E7
- Format: LERC
- Compression Quality: 0.0
- LERC Error: 0.1
- Origin: X: -2.0037508342787E7
Y: 2.0037508342787E7
- Spatial Reference: 102100
(3857)
Extent:
XMin: 1.3629630027934607E7
YMin: -457315.4186994579
XMax: 1.3652921767656103E7
YMax: -433966.2765612304
Spatial Reference: 102100
(3857)
Initial Extent:
XMin: 1.3629630027934607E7
YMin: -457315.4186994579
XMax: 1.3652921767656103E7
YMax: -433966.2765612304
Spatial Reference: 102100
(3857)
Full Extent:
XMin: 1.3629630027934607E7
YMin: -457315.4186994579
XMax: 1.3652921767656103E7
YMax: -433966.2765612304
Spatial Reference: 102100
(3857)
Pixel Size X: 0.018661383852975992
Pixel Size Y: 0.018661383852976037
Band Count: 1
Pixel Type: F32
RasterFunction Infos: {"rasterFunctionInfos": [{
"name": "None",
"description": "",
"help": ""
}]}
Mensuration Capabilities: Basic
Has Histograms: false
Has Colormap: false
Has Multi Dimensions : false
Rendering Rule:
Min Scale: 5.91657527591555E8
Max Scale: 1128.497176
Min LOD: 0
Max LOD: 20
Copyright Text: Badan Informasi Geospasial
Service Data Type: esriImageServiceDataTypeGeneric
Min Values: 0.07033214708932256
Max Values: 395.2005492888238
Mean Values: 53.422083435228615
Standard Deviation Values: 63.43149264361747
Object ID Field:
Fields:
None
Default Mosaic Method: Center
Allowed Mosaic Methods:
SortField:
SortValue: null
Mosaic Operator: First
Default Compression Quality: 75
Default Resampling Method: Bilinear
Max Record Count: null
Max Image Height: 4100
Max Image Width: 15000
Max Download Image Count: null
Max Mosaic Image Count: null
Allow Raster Function: true
Allow Copy: null
Allow Analysis: null
Allow Compute TiePoints: false
Supports Statistics: false
Supports Advanced Queries: false
Use StandardizedQueries: true
Raster Type Infos:
Name: Raster Dataset
Description: Supports all ArcGIS Raster Datasets
Help:
Has Raster Attribute Table: false
Edit Fields Info: null
Ownership Based AccessControl For Rasters: null
Child Resources:
Info
Key Properties
Legend
Raster Function Infos
Supported Operations:
Export Image
Identify
Measure
Compute Histograms
Compute Statistics Histograms
Get Samples
Compute Class Statistics
Query Boundary
Compute Pixel Location
Validate
Project