{
 "currentVersion": 10.81,
 "serviceDescription": "DSM lidar merupakan salah satu keluaran yang dihasilkan dari paket Data Geospasial Dasar dan Peta Rupabumi Indonesia (RBI) Wilayah Darat Skala 1:5.000 Kelas 1 dari Kamera Udara Metrik dan Lidar. Akuisisi di Kendari dilakukan pada 24 Maret 2024 hingga 5 Mei 2024. Pekerjaan ini dimaksudkan untuk digunakan sebagai sumber data pemetaan rupabumi Indonesia skala 1:5.000 Kelas 1, dan dikhususkan dalam rangka pemenuhan peta dasar skala besar seluruh Indonesia. DSM lidar dibentuk dengan menggunakan data masukan berupa: Data trajectory akuisisi; Data pengamatan GNSS base station dan antena di wahana; Data laser hasil akuisisi, serta Ground Control Point (GCP) dari hasil pengamatan GNSS di periode pekerjaan. DSM lidar, merupakan data ketinggian yang dibentuk dari kategori utama yaitu ground dan non-ground. Proses untuk menghasilkan DSM lidar meliputi proses strip adjustment untuk mengoreksi perbedaan ketinggian pada jalur akuisisi yang berbeda, klasifikasi otomatis dan manual untuk mengelompokkan point cloud ke kelasnya, kemudian dilakukan konversi ke bentuk raster bil. Proses tersebut dilakukan dengan mengggunakan perangkat lunak pengolah point cloud. Resolusi spasial (resampling) adalah 0,25 meter.",
 "name": "DEMNAS/DSM_SULAWESI_KENDARI_2024_TILE",
 "description": "DSM lidar merupakan salah satu keluaran yang dihasilkan dari paket Data Geospasial Dasar dan Peta Rupabumi Indonesia (RBI) Wilayah Darat Skala 1:5.000 Kelas 1 dari Kamera Udara Metrik dan Lidar. Akuisisi di Kendari dilakukan pada 24 Maret 2024 hingga 5 Mei 2024. Pekerjaan ini dimaksudkan untuk digunakan sebagai sumber data pemetaan rupabumi Indonesia skala 1:5.000 Kelas 1, dan dikhususkan dalam rangka pemenuhan peta dasar skala besar seluruh Indonesia. DSM lidar dibentuk dengan menggunakan data masukan berupa: Data trajectory akuisisi; Data pengamatan GNSS base station dan antena di wahana; Data laser hasil akuisisi, serta Ground Control Point (GCP) dari hasil pengamatan GNSS di periode pekerjaan. DSM lidar, merupakan data ketinggian yang dibentuk dari kategori utama yaitu ground dan non-ground. Proses untuk menghasilkan DSM lidar meliputi proses strip adjustment untuk mengoreksi perbedaan ketinggian pada jalur akuisisi yang berbeda, klasifikasi otomatis dan manual untuk mengelompokkan point cloud ke kelasnya, kemudian dilakukan konversi ke bentuk raster bil. Proses tersebut dilakukan dengan mengggunakan perangkat lunak pengolah point cloud. Resolusi spasial (resampling) adalah 0,25 meter.",
 "extent": {
  "xmin": 1.3629630027934607E7,
  "ymin": -457315.4186994579,
  "xmax": 1.3652921767656103E7,
  "ymax": -433966.2765612304,
  "spatialReference": {
   "wkid": 102100,
   "latestWkid": 3857
  }
 },
 "initialExtent": {
  "xmin": 1.3629630027934607E7,
  "ymin": -457315.4186994579,
  "xmax": 1.3652921767656103E7,
  "ymax": -433966.2765612304,
  "spatialReference": {
   "wkid": 102100,
   "latestWkid": 3857
  }
 },
 "fullExtent": {
  "xmin": 1.3629630027934607E7,
  "ymin": -457315.4186994579,
  "xmax": 1.3652921767656103E7,
  "ymax": -433966.2765612304,
  "spatialReference": {
   "wkid": 102100,
   "latestWkid": 3857
  }
 },
 "pixelSizeX": 0.018661383852975992,
 "pixelSizeY": 0.018661383852976037,
 "bandCount": 1,
 "pixelType": "F32",
 "minPixelSize": 0.29858214164761643,
 "maxPixelSize": 156543.033928,
 "copyrightText": "Badan Informasi Geospasial",
 "serviceDataType": "esriImageServiceDataTypeGeneric",
 "minValues": [
  0.07033214708932256
 ],
 "maxValues": [
  395.2005492888238
 ],
 "meanValues": [
  53.422083435228615
 ],
 "stdvValues": [
  63.43149264361747
 ],
 "objectIdField": "",
 "fields": [],
 "capabilities": "Image,Metadata,Mensuration",
 "defaultMosaicMethod": "Center",
 "allowedMosaicMethods": "",
 "sortField": "",
 "sortValue": null,
 "sortAscending": true,
 "mosaicOperator": "First",
 "defaultCompressionQuality": 75,
 "defaultResamplingMethod": "Bilinear",
 "maxImageHeight": 4100,
 "maxImageWidth": 15000,
 "singleFusedMapCache": true,
 "tileInfo": {
  "rows": 256,
  "cols": 256,
  "dpi": 96,
  "format": "LERC",
  "compressionQuality": 0,
  "lercError": 0.1,
  "origin": {
   "x": -2.0037508342787E7,
   "y": 2.0037508342787E7
  },
  "spatialReference": {
   "wkid": 102100,
   "latestWkid": 3857
  },
  "lods": [
   {
    "level": 0,
    "resolution": 156543.033928,
    "scale": 5.91657527591555E8
   },
   {
    "level": 1,
    "resolution": 78271.5169639999,
    "scale": 2.95828763795777E8
   },
   {
    "level": 2,
    "resolution": 39135.7584820001,
    "scale": 1.47914381897889E8
   },
   {
    "level": 3,
    "resolution": 19567.8792409999,
    "scale": 7.3957190948944E7
   },
   {
    "level": 4,
    "resolution": 9783.93962049996,
    "scale": 3.6978595474472E7
   },
   {
    "level": 5,
    "resolution": 4891.96981024998,
    "scale": 1.8489297737236E7
   },
   {
    "level": 6,
    "resolution": 2445.98490512499,
    "scale": 9244648.868618
   },
   {
    "level": 7,
    "resolution": 1222.99245256249,
    "scale": 4622324.434309
   },
   {
    "level": 8,
    "resolution": 611.49622628138,
    "scale": 2311162.217155
   },
   {
    "level": 9,
    "resolution": 305.748113140558,
    "scale": 1155581.108577
   },
   {
    "level": 10,
    "resolution": 152.874056570411,
    "scale": 577790.554289
   },
   {
    "level": 11,
    "resolution": 76.4370282850732,
    "scale": 288895.277144
   },
   {
    "level": 12,
    "resolution": 38.2185141425366,
    "scale": 144447.638572
   },
   {
    "level": 13,
    "resolution": 19.1092570712683,
    "scale": 72223.819286
   },
   {
    "level": 14,
    "resolution": 9.55462853563415,
    "scale": 36111.909643
   },
   {
    "level": 15,
    "resolution": 4.77731426794937,
    "scale": 18055.954822
   },
   {
    "level": 16,
    "resolution": 2.38865713397468,
    "scale": 9027.977411
   },
   {
    "level": 17,
    "resolution": 1.19432856685505,
    "scale": 4513.988705
   },
   {
    "level": 18,
    "resolution": 0.597164283559817,
    "scale": 2256.994353
   },
   {
    "level": 19,
    "resolution": 0.298582141647617,
    "scale": 1128.497176
   },
   {
    "level": 20,
    "resolution": 0.14929107082380833,
    "scale": 564.248588
   },
   {
    "level": 21,
    "resolution": 0.07464553541190416,
    "scale": 282.124294
   },
   {
    "level": 22,
    "resolution": 0.03732276770595208,
    "scale": 141.062147
   },
   {
    "level": 23,
    "resolution": 0.01866138385297604,
    "scale": 70.5310735
   }
  ]
 },
 "cacheType": "Elevation",
 "allowRasterFunction": true,
 "rasterFunctionInfos": [
  {
   "name": "None",
   "description": "",
   "help": ""
  }
 ],
 "rasterTypeInfos": [
  {
   "name": "Raster Dataset",
   "description": "Supports all ArcGIS Raster Datasets",
   "help": ""
  }
 ],
 "mensurationCapabilities": "Basic",
 "hasHistograms": false,
 "hasColormap": false,
 "hasRasterAttributeTable": false,
 "minScale": 5.91657527591555E8,
 "maxScale": 1128.497176,
 "minLOD": 0,
 "maxLOD": 20,
 "exportTilesAllowed": false,
 "hasMultidimensions": false,
 "supportsStatistics": false,
 "supportsAdvancedQueries": false,
 "editFieldsInfo": null,
 "ownershipBasedAccessControlForRasters": null,
 "allowComputeTiePoints": false,
 "useStandardizedQueries": true,
 "advancedQueryCapabilities": {
  "useStandardizedQueries": true,
  "supportsStatistics": false,
  "supportsOrderBy": false,
  "supportsDistinct": false,
  "supportsPagination": false
 },
 "spatialReference": {
  "wkid": 102100,
  "latestWkid": 3857
 }
}
