View In:
ArcGIS JavaScript
ArcGIS Online Map Viewer
ArcGIS Earth
ArcMap
View Footprint In:
ArcGIS Online Map Viewer
Service Description: tes
Name: testDEM
Description: tes
Single Fused Map Cache: false
Extent:
XMin: 125
YMin: 1.375
XMax: 125.125
YMax: 1.5
Spatial Reference: 4326
(4326)
Initial Extent:
XMin: 125
YMin: 1.375
XMax: 125.125
YMax: 1.5
Spatial Reference: 4326
(4326)
Full Extent:
XMin: 125
YMin: 1.375
XMax: 125.125
YMax: 1.5
Spatial Reference: 4326
(4326)
Pixel Size X: 7.498500299940011E-5
Pixel Size Y: 7.498500299940011E-5
Band Count: 1
Pixel Type: F32
RasterFunction Infos: {"rasterFunctionInfos": [{
"name": "None",
"description": "",
"help": ""
}]}
Mensuration Capabilities:
Has Histograms: true
Has Colormap: false
Has Multi Dimensions : false
Rendering Rule:
Min Scale: 0
Max Scale: 0
Copyright Text: BIG
Service Data Type: esriImageServiceDataTypeGeneric
Min Values: -8.7070693969727
Max Values: 1984.1412353516
Mean Values: 401.93847280676
Standard Deviation Values: 360.47743509778
Object ID Field:
Fields:
None
Default Mosaic Method: Center
Allowed Mosaic Methods:
SortField:
SortValue: null
Mosaic Operator: First
Default Compression Quality: 75
Default Resampling Method: Bilinear
Max Record Count: null
Max Image Height: 4100
Max Image Width: 15000
Max Download Image Count: null
Max Mosaic Image Count: null
Allow Raster Function: true
Allow Copy: null
Allow Analysis: null
Allow Compute TiePoints: false
Supports Statistics: false
Supports Advanced Queries: false
Use StandardizedQueries: true
Raster Type Infos:
Name: Raster Dataset
Description: Supports all ArcGIS Raster Datasets
Help:
Has Raster Attribute Table: false
Edit Fields Info: null
Ownership Based AccessControl For Rasters: null
Child Resources:
Info
Histograms
Key Properties
Legend
Raster Function Infos
Supported Operations:
Export Image
Identify
Measure
Compute Histograms
Compute Statistics Histograms
Get Samples
Compute Class Statistics
Query Boundary
Compute Pixel Location
Validate
Project