View In:
ArcGIS JavaScript
ArcGIS Online Map Viewer
ArcGIS Earth
ArcMap
View Footprint In:
ArcGIS Online Map Viewer
Service Description: Data ini adalah mosaik foto udara tahun perekaman 2020 wilayah Seputih Banyak
Name: IMAGERY/FU_2020_Seputihbanyak
Description: Data ini adalah mosaik foto udara tahun perekaman 2020 wilayah Seputih Banyak
Single Fused Map Cache: false
Extent:
XMin: 539219.6090000016
YMin: 9454165.912
XMax: 564740.1089999857
YMax: 9477313.211999986
Spatial Reference: 32748
(32748)
Initial Extent:
XMin: 539219.6090000016
YMin: 9454165.912
XMax: 564740.1089999857
YMax: 9477313.211999986
Spatial Reference: 32748
(32748)
Full Extent:
XMin: 539219.6090000016
YMin: 9454165.912
XMax: 564740.1089999857
YMax: 9477313.211999986
Spatial Reference: 32748
(32748)
Pixel Size X: 0.09999999999993796
Pixel Size Y: 0.09999999999993885
Band Count: 3
Pixel Type: U8
RasterFunction Infos: {"rasterFunctionInfos": [{
"name": "None",
"description": "",
"help": ""
}]}
Mensuration Capabilities: None
Has Histograms: true
Has Colormap: false
Has Multi Dimensions : false
Rendering Rule:
Min Scale: 32000000
Max Scale: 1000
Copyright Text: Badan Informasi Geospasial
Service Data Type: esriImageServiceDataTypeRGB
Min Values: 0, 4, 5
Max Values: 255, 254, 254
Mean Values: 88.47318710030542, 103.02548631823598, 78.8493850898668
Standard Deviation Values: 33.05871923763333, 26.65641864535362, 21.672148967947457
Object ID Field: OBJECTID
Fields:
-
OBJECTID
(
type: esriFieldTypeOID, alias: OBJECTID
)
-
Shape
(
type: esriFieldTypeGeometry, alias: Shape
)
-
Name
(
type: esriFieldTypeString, alias: Name, length: 200
)
-
MinPS
(
type: esriFieldTypeDouble, alias: MinPS
)
-
MaxPS
(
type: esriFieldTypeDouble, alias: MaxPS
)
-
LowPS
(
type: esriFieldTypeDouble, alias: LowPS
)
-
HighPS
(
type: esriFieldTypeDouble, alias: HighPS
)
-
Category
(
type: esriFieldTypeInteger, alias: Category
, Coded Values:
[0: Unknown]
, [1: Primary]
, [2: Overview]
, ...6 more...
)
-
Tag
(
type: esriFieldTypeString, alias: Tag, length: 100
)
-
GroupName
(
type: esriFieldTypeString, alias: GroupName, length: 100
)
-
ProductName
(
type: esriFieldTypeString, alias: ProductName, length: 100
)
-
CenterX
(
type: esriFieldTypeDouble, alias: CenterX
)
-
CenterY
(
type: esriFieldTypeDouble, alias: CenterY
)
-
ZOrder
(
type: esriFieldTypeInteger, alias: ZOrder
)
-
Shape_Length
(
type: esriFieldTypeDouble, alias: Shape_Length
)
-
Shape_Area
(
type: esriFieldTypeDouble, alias: Shape_Area
)
Default Mosaic Method: Northwest
Allowed Mosaic Methods: NorthWest,Center,LockRaster,ByAttribute,Nadir,Viewpoint,Seamline,None
SortField:
SortValue: null
Mosaic Operator: First
Default Compression Quality: 75
Default Resampling Method: Bilinear
Max Record Count: 1000
Max Image Height: 4100
Max Image Width: 15000
Max Download Image Count: 20
Max Mosaic Image Count: 20
Allow Raster Function: true
Allow Copy: null
Allow Analysis: null
Allow Compute TiePoints: false
Supports Statistics: true
Supports Advanced Queries: true
Use StandardizedQueries: true
Raster Type Infos:
Name: Raster Dataset
Description: Supports all ArcGIS Raster Datasets
Help:
Has Raster Attribute Table: false
Edit Fields Info: null
Ownership Based AccessControl For Rasters: null
Child Resources:
Info
Histograms
Key Properties
Legend
Raster Function Infos
Supported Operations:
Export Image
Query
Identify
Compute Histograms
Compute Statistics Histograms
Get Samples
Compute Class Statistics
Query Boundary
Compute Pixel Location
Validate
Project