View In:
ArcGIS JavaScript
ArcGIS Online Map Viewer
ArcGIS Earth
ArcMap
View Footprint In:
ArcGIS Online Map Viewer
Service Description: Data ini adalah hasil mosaik citra tegak satelit penginderaan jauh resolusi sangat tinggi (resolusi spasial kurang dari 1 meter) hasil perekaman tahun 2013-2018 wilayah Provinsi Sulawesi Utara.
Name: IMAGERY/CTSRT_2018_SULAWESIUTARA
Description: Data ini adalah hasil mosaik citra tegak satelit penginderaan jauh resolusi sangat tinggi (resolusi spasial kurang dari 1 meter) hasil perekaman tahun 2013-2018 wilayah Provinsi Sulawesi Utara.
Single Fused Map Cache: false
Extent:
XMin: 122.87488746600002
YMin: 0.29155801555557437
XMax: 125.20844441044447
YMax: 1.8959484100000212
Spatial Reference: 4326
(4326)
Initial Extent:
XMin: 122.87488746600002
YMin: 0.29155801555557437
XMax: 125.20844441044447
YMax: 1.8959484100000212
Spatial Reference: 4326
(4326)
Full Extent:
XMin: 122.87488746600002
YMin: 0.29155801555557437
XMax: 125.20844441044447
YMax: 1.8959484100000212
Spatial Reference: 4326
(4326)
Pixel Size X: 4.627777777777795E-6
Pixel Size Y: 4.627777777777785E-6
Band Count: 3
Pixel Type: U16
RasterFunction Infos: {"rasterFunctionInfos": [{
"name": "None",
"description": "",
"help": ""
}]}
Mensuration Capabilities: None
Has Histograms: true
Has Colormap: false
Has Multi Dimensions : false
Rendering Rule:
Min Scale: 0
Max Scale: 0
Copyright Text: Badan Informasi Geospasial
Service Data Type: esriImageServiceDataTypeGeneric
Min Values: 0, 0, 0
Max Values: 9680, 9465, 12880
Mean Values: 273.37125557733884, 406.990689395264, 430.73112236034586
Standard Deviation Values: 311.5892124194598, 317.3637889457893, 321.2629215336678
Object ID Field: OBJECTID
Fields:
-
OBJECTID
(
type: esriFieldTypeOID, alias: OBJECTID
)
-
Shape
(
type: esriFieldTypeGeometry, alias: Shape
)
-
Name
(
type: esriFieldTypeString, alias: Name, length: 50
)
-
MinPS
(
type: esriFieldTypeDouble, alias: MinPS
)
-
MaxPS
(
type: esriFieldTypeDouble, alias: MaxPS
)
-
LowPS
(
type: esriFieldTypeDouble, alias: LowPS
)
-
HighPS
(
type: esriFieldTypeDouble, alias: HighPS
)
-
Category
(
type: esriFieldTypeInteger, alias: Category
, Coded Values:
[0: Unknown]
, [1: Primary]
, [2: Overview]
, ...6 more...
)
-
Tag
(
type: esriFieldTypeString, alias: Tag, length: 20
)
-
GroupName
(
type: esriFieldTypeString, alias: GroupName, length: 50
)
-
ProductName
(
type: esriFieldTypeString, alias: ProductName, length: 50
)
-
CenterX
(
type: esriFieldTypeDouble, alias: CenterX
)
-
CenterY
(
type: esriFieldTypeDouble, alias: CenterY
)
-
ZOrder
(
type: esriFieldTypeInteger, alias: ZOrder
)
-
Shape_Length
(
type: esriFieldTypeDouble, alias: Shape_Length
)
-
Shape_Area
(
type: esriFieldTypeDouble, alias: Shape_Area
)
Default Mosaic Method: Northwest
Allowed Mosaic Methods: NorthWest,Center,LockRaster,ByAttribute,Nadir,Viewpoint,Seamline,None
SortField:
SortValue: null
Mosaic Operator: First
Default Compression Quality: 75
Default Resampling Method: Bilinear
Max Record Count: 1000
Max Image Height: 4100
Max Image Width: 15000
Max Download Image Count: 20
Max Mosaic Image Count: 20
Allow Raster Function: true
Allow Copy: null
Allow Analysis: null
Allow Compute TiePoints: false
Supports Statistics: true
Supports Advanced Queries: true
Use StandardizedQueries: true
Raster Type Infos:
Name: Raster Dataset
Description: Supports all ArcGIS Raster Datasets
Help:
Has Raster Attribute Table: false
Edit Fields Info: null
Ownership Based AccessControl For Rasters: null
Child Resources:
Info
Histograms
Key Properties
Legend
Raster Function Infos
Supported Operations:
Export Image
Query
Identify
Compute Histograms
Compute Statistics Histograms
Get Samples
Compute Class Statistics
Query Boundary
Compute Pixel Location
Validate
Project