View In:
ArcGIS JavaScript
ArcGIS Online Map Viewer
ArcGIS Earth
ArcMap
View Footprint In:
ArcGIS Online Map Viewer
Service Description: Data ini adalah mosaik citra tegak satelit penginderaan jauh resolusi tinggi Tahun 2013-2015 wilayah Kabupaten Bantaeng
Name: IMAGERY/CTSRT_2015_BANTAENG
Description: Data ini adalah mosaik citra tegak satelit penginderaan jauh resolusi tinggi Tahun 2013-2015 wilayah Kabupaten Bantaeng
Single Fused Map Cache: false
Extent:
XMin: 119.81238746600002
YMin: -5.687606194666639
XMax: 120.18760968822225
YMax: -4.7082195279999555
Spatial Reference: 4326
(4326)
Initial Extent:
XMin: 119.81238746600002
YMin: -5.687606194666639
XMax: 120.18760968822225
YMax: -4.7082195279999555
Spatial Reference: 4326
(4326)
Full Extent:
XMin: 119.81238746600002
YMin: -5.687606194666639
XMax: 120.18760968822225
YMax: -4.7082195279999555
Spatial Reference: 4326
(4326)
Pixel Size X: 4.444444444444588E-6
Pixel Size Y: 4.444444444444521E-6
Band Count: 3
Pixel Type: U16
RasterFunction Infos: {"rasterFunctionInfos": [{
"name": "None",
"description": "",
"help": ""
}]}
Mensuration Capabilities: None
Has Histograms: true
Has Colormap: false
Has Multi Dimensions : false
Rendering Rule:
Min Scale: 0
Max Scale: 0
Copyright Text: Badan Informasi Geospasial
Service Data Type: esriImageServiceDataTypeGeneric
Min Values: 0, 0, 0
Max Values: 4616, 10031, 7127
Mean Values: 190.4606995933403, 294.7236856036793, 248.42406004257242
Standard Deviation Values: 168.5401620595909, 214.2151441292937, 179.9881854401987
Object ID Field: OBJECTID
Fields:
-
OBJECTID
(
type: esriFieldTypeOID, alias: OBJECTID
)
-
Shape
(
type: esriFieldTypeGeometry, alias: Shape
)
-
Name
(
type: esriFieldTypeString, alias: Name, length: 50
)
-
MinPS
(
type: esriFieldTypeDouble, alias: MinPS
)
-
MaxPS
(
type: esriFieldTypeDouble, alias: MaxPS
)
-
LowPS
(
type: esriFieldTypeDouble, alias: LowPS
)
-
HighPS
(
type: esriFieldTypeDouble, alias: HighPS
)
-
Category
(
type: esriFieldTypeInteger, alias: Category
, Coded Values:
[0: Unknown]
, [1: Primary]
, [2: Overview]
, ...6 more...
)
-
Tag
(
type: esriFieldTypeString, alias: Tag, length: 20
)
-
GroupName
(
type: esriFieldTypeString, alias: GroupName, length: 50
)
-
ProductName
(
type: esriFieldTypeString, alias: ProductName, length: 50
)
-
CenterX
(
type: esriFieldTypeDouble, alias: CenterX
)
-
CenterY
(
type: esriFieldTypeDouble, alias: CenterY
)
-
ZOrder
(
type: esriFieldTypeInteger, alias: ZOrder
)
-
Shape_Length
(
type: esriFieldTypeDouble, alias: Shape_Length
)
-
Shape_Area
(
type: esriFieldTypeDouble, alias: Shape_Area
)
Default Mosaic Method: Northwest
Allowed Mosaic Methods: NorthWest,Center,LockRaster,ByAttribute,Nadir,Viewpoint,Seamline,None
SortField:
SortValue: null
Mosaic Operator: First
Default Compression Quality: 75
Default Resampling Method: Bilinear
Max Record Count: 1000
Max Image Height: 4100
Max Image Width: 15000
Max Download Image Count: 20
Max Mosaic Image Count: 20
Allow Raster Function: true
Allow Copy: null
Allow Analysis: null
Allow Compute TiePoints: false
Supports Statistics: true
Supports Advanced Queries: true
Use StandardizedQueries: true
Raster Type Infos:
Name: Raster Dataset
Description: Supports all ArcGIS Raster Datasets
Help:
Has Raster Attribute Table: false
Edit Fields Info: null
Ownership Based AccessControl For Rasters: null
Child Resources:
Info
Histograms
Key Properties
Legend
Raster Function Infos
Supported Operations:
Export Image
Query
Identify
Compute Histograms
Compute Statistics Histograms
Get Samples
Compute Class Statistics
Query Boundary
Compute Pixel Location
Validate
Project