View In:
ArcGIS JavaScript
ArcGIS Online Map Viewer
ArcGIS Earth
ArcMap
View Footprint In:
ArcGIS Online Map Viewer
Service Description: True Orthophoto merupakan salah satu keluaran yang dihasilkan dari paket Data Geospasial Dasar dan Peta RupabumiIndonesia (RBI) Wilayah Darat Skala 1:5.000 Kelas 1 dari Kamera Udara Metrik dan Lidar.
Akuisisi di Makassar dilakukan pada 15 Mei 2024 hingga 28 Mei 2024. Pekerjaan ini dimaksudkan untuk digunakan sebagai sumber data pemetaan rupabumi Indonesia skala 1:5.000 Kelas 1, dan dikhususkan dalam rangka pemenuhan peta dasar skala besar seluruh Indonesia. True orthophoto dibentuk dengan menggunakan data masukan berupa: Foto udara per-frame yang telah di proses Triangulasi Udara menggunakan Ground Control Point (GCP) dari hasil pengamatan GNSS di periode pekerjaan; Nilai parameter exterior orientation (EO) dari hasil proses Triangulasi Udara; Nilai parameter interior orientation (IO) dari kamera udara. Proses yang dilakukan yaitu pembentukan dense points dengan metode image matching, kemudian dense point tersebut digunakan sebagai data ketinggian untuk melakukan orthorektifikasi per frame. Mosaik dilanjutkan untuk mendapatkan orthophoto gabungan. Dilanjutkan dengan tiling pada ukuran NLP RBI 1:5.000. Proses tersebut dilakukan dengan mengggunakan perangkat lunak fotogrametri.
Resolusi spasial (resampling) adalah 0,10 meter.
Name: FUTILE/FU_SULAWESI_MAKASSAR_2024_TILE
Description: True Orthophoto merupakan salah satu keluaran yang dihasilkan dari paket Data Geospasial Dasar dan Peta RupabumiIndonesia (RBI) Wilayah Darat Skala 1:5.000 Kelas 1 dari Kamera Udara Metrik dan Lidar.
Akuisisi di Makassar dilakukan pada 15 Mei 2024 hingga 28 Mei 2024. Pekerjaan ini dimaksudkan untuk digunakan sebagai sumber data pemetaan rupabumi Indonesia skala 1:5.000 Kelas 1, dan dikhususkan dalam rangka pemenuhan peta dasar skala besar seluruh Indonesia. True orthophoto dibentuk dengan menggunakan data masukan berupa: Foto udara per-frame yang telah di proses Triangulasi Udara menggunakan Ground Control Point (GCP) dari hasil pengamatan GNSS di periode pekerjaan; Nilai parameter exterior orientation (EO) dari hasil proses Triangulasi Udara; Nilai parameter interior orientation (IO) dari kamera udara. Proses yang dilakukan yaitu pembentukan dense points dengan metode image matching, kemudian dense point tersebut digunakan sebagai data ketinggian untuk melakukan orthorektifikasi per frame. Mosaik dilanjutkan untuk mendapatkan orthophoto gabungan. Dilanjutkan dengan tiling pada ukuran NLP RBI 1:5.000. Proses tersebut dilakukan dengan mengggunakan perangkat lunak fotogrametri.
Resolusi spasial (resampling) adalah 0,10 meter.
Single Fused Map Cache: true
Tile Info:
- Height: 256
- Width: 256
- DPI: 96
-
Levels of Detail: 24
-
Level ID: 0
[ Start Tile, End Tile ]
- Resolution: 156543.03392800014
- Scale: 5.91657527591555E8
-
Level ID: 1
[ Start Tile, End Tile ]
- Resolution: 78271.51696399994
- Scale: 2.95828763795777E8
-
Level ID: 2
[ Start Tile, End Tile ]
- Resolution: 39135.75848200009
- Scale: 1.47914381897889E8
-
Level ID: 3
[ Start Tile, End Tile ]
- Resolution: 19567.87924099992
- Scale: 7.3957190948944E7
-
Level ID: 4
[ Start Tile, End Tile ]
- Resolution: 9783.93962049996
- Scale: 3.6978595474472E7
-
Level ID: 5
[ Start Tile, End Tile ]
- Resolution: 4891.96981024998
- Scale: 1.8489297737236E7
- Format: MIXED
- Compression Quality: 75.0
- LERC Error: NaN
- Origin: X: -2.0037508342787E7
Y: 2.0037508342787E7
- Spatial Reference: 102100
(3857)
Extent:
XMin: 1.328639485235805E7
YMin: -589955.4219072376
XMax: 1.331432510297281E7
YMax: -554926.7541024834
Spatial Reference: 102100
(3857)
Initial Extent:
XMin: 1.328639485235805E7
YMin: -589955.4219072376
XMax: 1.331432510297281E7
YMax: -554926.7541024834
Spatial Reference: 102100
(3857)
Full Extent:
XMin: 1.328639485235805E7
YMin: -589955.4219072376
XMax: 1.331432510297281E7
YMax: -554926.7541024834
Spatial Reference: 102100
(3857)
Pixel Size X: 0.01866138385297566
Pixel Size Y: 0.018661383852976065
Band Count: 3
Pixel Type: U8
RasterFunction Infos: {"rasterFunctionInfos": [{
"name": "None",
"description": "",
"help": ""
}]}
Mensuration Capabilities: Basic
Has Histograms: false
Has Colormap: false
Has Multi Dimensions : false
Rendering Rule:
Min Scale: 5.91657527591555E8
Max Scale: 564.248588
Min LOD: 0
Max LOD: 20
Copyright Text: Badan Informasi Geospasial
Service Data Type: esriImageServiceDataTypeRGB
Min Values: N/A
Max Values: N/A
Mean Values: N/A
Standard Deviation Values: N/A
Object ID Field:
Fields:
None
Default Mosaic Method: Center
Allowed Mosaic Methods:
SortField:
SortValue: null
Mosaic Operator: First
Default Compression Quality: 75
Default Resampling Method: Bilinear
Max Record Count: null
Max Image Height: 4100
Max Image Width: 15000
Max Download Image Count: null
Max Mosaic Image Count: null
Allow Raster Function: true
Allow Copy: null
Allow Analysis: null
Allow Compute TiePoints: false
Supports Statistics: false
Supports Advanced Queries: false
Use StandardizedQueries: true
Raster Type Infos:
Name: Raster Dataset
Description: Supports all ArcGIS Raster Datasets
Help:
Has Raster Attribute Table: false
Edit Fields Info: null
Ownership Based AccessControl For Rasters: null
Child Resources:
Info
Key Properties
Legend
Raster Function Infos
Supported Operations:
Export Image
Identify
Measure
Compute Histograms
Compute Statistics Histograms
Get Samples
Compute Class Statistics
Query Boundary
Compute Pixel Location
Validate
Project