<?xml version="1.0" encoding="UTF-8" standalone="no"?>
<metadata xml:lang="en">
<Esri>
<CreaDate>20230803</CreaDate>
<CreaTime>13012700</CreaTime>
<ArcGISFormat>1.0</ArcGISFormat>
<ArcGISstyle>North American Profile of ISO19115 2003</ArcGISstyle>
<SyncOnce>FALSE</SyncOnce>
<DataProperties>
<itemProps>
<itemName Sync="TRUE">INDEKS_JALURTERBANG_MALUKU_0025K</itemName>
<nativeExtBox>
<westBL Sync="TRUE">127.319418</westBL>
<eastBL Sync="TRUE">131.117627</eastBL>
<southBL Sync="TRUE">-3.979538</southBL>
<northBL Sync="TRUE">-2.260761</northBL>
<exTypeCode Sync="TRUE">1</exTypeCode>
</nativeExtBox>
<imsContentType export="False">
</imsContentType>
</itemProps>
<coordRef>
<type Sync="TRUE">Geographic</type>
<geogcsn Sync="TRUE">GCS_WGS_1984</geogcsn>
<csUnits Sync="TRUE">Angular Unit: Degree (0.017453)</csUnits>
<peXml Sync="TRUE">&lt;GeographicCoordinateSystem xsi:type='typens:GeographicCoordinateSystem' xmlns:xsi='http://www.w3.org/2001/XMLSchema-instance' xmlns:xs='http://www.w3.org/2001/XMLSchema' xmlns:typens='http://www.esri.com/schemas/ArcGIS/10.8'&gt;&lt;WKT&gt;GEOGCS[&amp;quot;GCS_WGS_1984&amp;quot;,DATUM[&amp;quot;D_WGS_1984&amp;quot;,SPHEROID[&amp;quot;WGS_1984&amp;quot;,6378137.0,298.257223563]],PRIMEM[&amp;quot;Greenwich&amp;quot;,0.0],UNIT[&amp;quot;Degree&amp;quot;,0.0174532925199433],AUTHORITY[&amp;quot;EPSG&amp;quot;,4326]]&lt;/WKT&gt;&lt;XOrigin&gt;-400&lt;/XOrigin&gt;&lt;YOrigin&gt;-400&lt;/YOrigin&gt;&lt;XYScale&gt;11258999068426.238&lt;/XYScale&gt;&lt;ZOrigin&gt;-100000&lt;/ZOrigin&gt;&lt;ZScale&gt;10000&lt;/ZScale&gt;&lt;MOrigin&gt;-100000&lt;/MOrigin&gt;&lt;MScale&gt;10000&lt;/MScale&gt;&lt;XYTolerance&gt;8.983152841195215e-09&lt;/XYTolerance&gt;&lt;ZTolerance&gt;0.001&lt;/ZTolerance&gt;&lt;MTolerance&gt;0.001&lt;/MTolerance&gt;&lt;HighPrecision&gt;true&lt;/HighPrecision&gt;&lt;LeftLongitude&gt;-180&lt;/LeftLongitude&gt;&lt;WKID&gt;4326&lt;/WKID&gt;&lt;LatestWKID&gt;4326&lt;/LatestWKID&gt;&lt;/GeographicCoordinateSystem&gt;</peXml>
</coordRef>
<RasterProperties>
<General>
<PixelDepth Sync="TRUE">16</PixelDepth>
<HasColormap Sync="TRUE">FALSE</HasColormap>
<CompressionType Sync="TRUE">None</CompressionType>
<NumBands Sync="TRUE">1</NumBands>
<Format Sync="TRUE">AMD</Format>
<HasPyramids Sync="TRUE">TRUE</HasPyramids>
<SourceType Sync="TRUE">continuous</SourceType>
<PixelType Sync="TRUE">unsigned integer</PixelType>
<NoDataValue Sync="TRUE">
</NoDataValue>
</General>
<Properties>
<MaxImageHeight Sync="TRUE">4100</MaxImageHeight>
<MaxImageWidth Sync="TRUE">15000</MaxImageWidth>
<MaxRecordCount Sync="TRUE">1000</MaxRecordCount>
<MaxDownloadImageCount Sync="TRUE">20</MaxDownloadImageCount>
<MaxDownloadSizeLimit Sync="TRUE">2048</MaxDownloadSizeLimit>
<MaxMosaicImageCount Sync="TRUE">20</MaxMosaicImageCount>
<DefaultCompressionQuality Sync="TRUE">75</DefaultCompressionQuality>
<DefaultCompressionTolerance Sync="TRUE">0,01</DefaultCompressionTolerance>
<BlendWidth Sync="TRUE">10</BlendWidth>
<ViewpointSpacingX Sync="TRUE">600</ViewpointSpacingX>
<ViewpointSpacingY Sync="TRUE">300</ViewpointSpacingY>
<AllowedItemMetadata Sync="TRUE">Basic</AllowedItemMetadata>
<DefaultResamplingMethod Sync="TRUE">1</DefaultResamplingMethod>
<AllowedMosaicMethods Sync="TRUE">NorthWest,Center,LockRaster,ByAttribute,Nadir,Viewpoint,Seamline,None</AllowedMosaicMethods>
<AllowedCompressions Sync="TRUE">None,JPEG,LZ77,LERC</AllowedCompressions>
<AllowedMensurationCapabilities Sync="TRUE">None</AllowedMensurationCapabilities>
<AvailableMensurationCapabilities Sync="TRUE">None,Basic,Base-Top Height,Top-Top Shadow Height,Base-Top Shadow Height,3D</AvailableMensurationCapabilities>
<ClipToBoundary Sync="TRUE">-1</ClipToBoundary>
<FootprintMayContainNoData Sync="TRUE">-1</FootprintMayContainNoData>
<CellSizeTolerance Sync="TRUE">0,8</CellSizeTolerance>
<MinimumPixelContribution Sync="TRUE">1</MinimumPixelContribution>
<AvailableMosaicMethods Sync="TRUE">NorthWest,Center,LockRaster,ByAttribute,Nadir,Viewpoint,Seamline,None</AvailableMosaicMethods>
<AvailableCompressionMethods Sync="TRUE">None,JPEG,LZ77,LERC</AvailableCompressionMethods>
<AvailableItemMetadataLevels Sync="TRUE">None,Basic,Full</AvailableItemMetadataLevels>
<BandDefinitionKeyword Sync="TRUE">NONE</BandDefinitionKeyword>
<_docversion_ Sync="TRUE">10</_docversion_>
<AllowedFields Sync="TRUE">Name,MinPS,MaxPS,LowPS,HighPS,Tag,GroupName,ProductName,CenterX,CenterY,ZOrder,Shape_Length,Shape_Area</AllowedFields>
<LowCellSize Sync="TRUE">1,86095483369889E-04</LowCellSize>
<HighCellSize Sync="TRUE">6,86182184236795E-03</HighCellSize>
<MaxCellSize Sync="TRUE">0,343091092118397</MaxCellSize>
</Properties>
<Functions Sync="TRUE">
<Function Description="Performs on-the-fly mosaic on a raster catalog." Name="Mosaic Function">
</Function>
</Functions>
</RasterProperties>
</DataProperties>
<SyncDate>20230803</SyncDate>
<SyncTime>15295800</SyncTime>
<ModDate>20230803</ModDate>
<ModTime>15295800</ModTime>
<scaleRange>
<minScale>150000000</minScale>
<maxScale>5000</maxScale>
</scaleRange>
<ArcGISProfile>NAP</ArcGISProfile>
</Esri>
<dataIdInfo>
<envirDesc Sync="TRUE"> Version 6.2 (Build 9200) ; Esri ArcGIS 10.8.1.14362</envirDesc>
<dataLang>
<languageCode Sync="TRUE" value="eng">
</languageCode>
<countryCode Sync="TRUE" value="IDN">
</countryCode>
</dataLang>
<idCitation>
<resTitle Sync="FALSE">Indeks Jalur Terbang Foto Udara Analog Wilayah Maluku Skala 1:25000</resTitle>
<presForm>
<PresFormCd Sync="TRUE" value="005">
</PresFormCd>
</presForm>
<citRespParty>
<editorSource>external</editorSource>
<editorDigest>c41e0dd51f1bbe84c2621ec217455f51</editorDigest>
<rpIndName>RACHMAN RIFAI</rpIndName>
<rpOrgName>Badan Informasi Geospasial</rpOrgName>
<rpPosName>Kepala Pusat PPIG</rpPosName>
<rpCntInfo>
<cntPhone>
<voiceNum tddtty="">021-8753155</voiceNum>
<faxNum>021-8753155</faxNum>
</cntPhone>
<cntAddress addressType="">
<delPoint>Jl. Raya Bogor km 46</delPoint>
<city>Kabupaten Bogor</city>
<adminArea>Jawa Barat</adminArea>
<postCode>16911</postCode>
<country>ID</country>
<eMailAdd>info@big.go.id</eMailAdd>
</cntAddress>
<cntOnlineRes>
<linkage>https://www.big.go.id/site/contact</linkage>
<protocol>https</protocol>
<appProfile>-</appProfile>
<orName>Web BIG</orName>
<orDesc>Web BIG - Kontak</orDesc>
<orFunct>
<OnFunctCd value="002">
</OnFunctCd>
</orFunct>
</cntOnlineRes>
<cntHours>08.00-16.00</cntHours>
<cntInstr>Hubungi Saat Jam Kerja</cntInstr>
</rpCntInfo>
<editorSave>True</editorSave>
<displayName>RACHMAN RIFAI</displayName>
<role>
<RoleCd value="002">
</RoleCd>
</role>
</citRespParty>
<date>
<pubDate>2023-08-03T00:00:00</pubDate>
</date>
</idCitation>
<spatRpType>
<SpatRepTypCd Sync="TRUE" value="002">
</SpatRepTypCd>
</spatRpType>
<dataExt>
<geoEle>
<GeoBndBox esriExtentType="search">
<exTypeCode Sync="TRUE">1</exTypeCode>
<westBL Sync="TRUE">127.319418</westBL>
<eastBL Sync="TRUE">131.117627</eastBL>
<northBL Sync="TRUE">-2.260761</northBL>
<southBL Sync="TRUE">-3.979538</southBL>
</GeoBndBox>
</geoEle>
</dataExt>
<themeKeys>
<keyword>Jalur Terbang</keyword>
</themeKeys>
<idAbs>&lt;DIV STYLE="text-align:Left;"&gt;&lt;DIV&gt;&lt;DIV&gt;&lt;P&gt;&lt;SPAN&gt;Indeks Jalur Terbang Foto Udara Analog Wilayah Maluku Skala 1:25000 teridiri atas bagian: MALUKU-PASAHARI-1991-SKALA FOTO 1_25000, MALUKU-PULAU SERAM-1995-SKALA FOTO 1_25000, SERAM UTARA-DAERAH TINGKAT I MALUKU-1995-SKALA FOTO 1_25000&lt;/SPAN&gt;&lt;/P&gt;&lt;/DIV&gt;&lt;/DIV&gt;&lt;/DIV&gt;</idAbs>
<idCredit>Badan Informasi Geospasial</idCredit>
<searchKeys>
<keyword>DG Analog</keyword>
<keyword>FU</keyword>
</searchKeys>
<idPurp>Indeks Jalur Terbang Foto Udara Analog Wilayah Maluku Skala 1:25000</idPurp>
<dataChar>
<CharSetCd value="004">
</CharSetCd>
</dataChar>
<dataScale>
<equScale>
<rfDenom>25000</rfDenom>
</equScale>
</dataScale>
<idStatus>
<ProgCd value="002">
</ProgCd>
</idStatus>
<idPoC>
<editorSource>external</editorSource>
<editorDigest>c41e0dd51f1bbe84c2621ec217455f51</editorDigest>
<rpIndName>RACHMAN RIFAI</rpIndName>
<rpOrgName>Badan Informasi Geospasial</rpOrgName>
<rpPosName>Kepala Pusat PPIG</rpPosName>
<rpCntInfo>
<cntPhone>
<voiceNum tddtty="">021-8753155</voiceNum>
<faxNum>021-8753155</faxNum>
</cntPhone>
<cntAddress addressType="">
<delPoint>Jl. Raya Bogor km 46</delPoint>
<city>Kabupaten Bogor</city>
<adminArea>Jawa Barat</adminArea>
<postCode>16911</postCode>
<country>ID</country>
<eMailAdd>info@big.go.id</eMailAdd>
</cntAddress>
<cntOnlineRes>
<linkage>https://www.big.go.id/site/contact</linkage>
<protocol>https</protocol>
<appProfile>-</appProfile>
<orName>Web BIG</orName>
<orDesc>Web BIG - Kontak</orDesc>
<orFunct>
<OnFunctCd value="002">
</OnFunctCd>
</orFunct>
</cntOnlineRes>
<cntHours>08.00-16.00</cntHours>
<cntInstr>Hubungi Saat Jam Kerja</cntInstr>
</rpCntInfo>
<editorSave>True</editorSave>
<displayName>RACHMAN RIFAI</displayName>
<role>
<RoleCd value="002">
</RoleCd>
</role>
</idPoC>
<resMaint>
<maintFreq>
<MaintFreqCd value="011">
</MaintFreqCd>
</maintFreq>
<maintCont>
<editorSource>external</editorSource>
<editorDigest>c41e0dd51f1bbe84c2621ec217455f51</editorDigest>
<rpIndName>RACHMAN RIFAI</rpIndName>
<rpOrgName>Badan Informasi Geospasial</rpOrgName>
<rpPosName>Kepala Pusat PPIG</rpPosName>
<rpCntInfo>
<cntPhone>
<voiceNum tddtty="">021-8753155</voiceNum>
<faxNum>021-8753155</faxNum>
</cntPhone>
<cntAddress addressType="">
<delPoint>Jl. Raya Bogor km 46</delPoint>
<city>Kabupaten Bogor</city>
<adminArea>Jawa Barat</adminArea>
<postCode>16911</postCode>
<country>ID</country>
<eMailAdd>info@big.go.id</eMailAdd>
</cntAddress>
<cntOnlineRes>
<linkage>https://www.big.go.id/site/contact</linkage>
<protocol>https</protocol>
<appProfile>-</appProfile>
<orName>Web BIG</orName>
<orDesc>Web BIG - Kontak</orDesc>
<orFunct>
<OnFunctCd value="002">
</OnFunctCd>
</orFunct>
</cntOnlineRes>
<cntHours>08.00-16.00</cntHours>
<cntInstr>Hubungi Saat Jam Kerja</cntInstr>
</rpCntInfo>
<editorSave>True</editorSave>
<displayName>RACHMAN RIFAI</displayName>
<role>
<RoleCd value="002">
</RoleCd>
</role>
</maintCont>
</resMaint>
<tpCat>
<TopicCatCd value="013">
</TopicCatCd>
</tpCat>
<resConst>
<Consts>
<useLimit/>
</Consts>
</resConst>
</dataIdInfo>
<mdLang>
<languageCode Sync="TRUE" value="eng">
</languageCode>
<countryCode Sync="TRUE" value="IDN">
</countryCode>
</mdLang>
<refSysInfo>
<RefSystem dimension="horizontal">
<refSysID>
<identCode Sync="TRUE" code="4326">
</identCode>
<idCodeSpace Sync="TRUE">EPSG</idCodeSpace>
<idVersion Sync="TRUE">6.14(3.0.1)</idVersion>
</refSysID>
</RefSystem>
</refSysInfo>
<spatRepInfo>
<Georect>
<cellGeo>
<CellGeoCd Sync="TRUE" value="002">
</CellGeoCd>
</cellGeo>
<numDims Sync="TRUE">2</numDims>
<tranParaAv Sync="TRUE">1</tranParaAv>
<chkPtAv Sync="TRUE">0</chkPtAv>
<cornerPts>
<pos Sync="TRUE">127.319418 -3.979538</pos>
</cornerPts>
<cornerPts>
<pos Sync="TRUE">127.319418 -2.260761</pos>
</cornerPts>
<cornerPts>
<pos Sync="TRUE">131.117627 -2.260761</pos>
</cornerPts>
<cornerPts>
<pos Sync="TRUE">131.117627 -3.979538</pos>
</cornerPts>
<centerPt>
<pos Sync="TRUE">129.218522 -3.120149</pos>
</centerPt>
<axisDimension type="002">
<dimSize Sync="TRUE">20410</dimSize>
<dimResol>
<value Sync="TRUE" uom="deg">0.000186</value>
</dimResol>
</axisDimension>
<axisDimension type="001">
<dimSize Sync="TRUE">9236</dimSize>
<dimResol>
<value Sync="TRUE" uom="deg">0.000186</value>
</dimResol>
</axisDimension>
<ptInPixel>
<PixOrientCd Sync="TRUE" value="001">
</PixOrientCd>
</ptInPixel>
</Georect>
</spatRepInfo>
<mdDateSt Sync="TRUE">20230803</mdDateSt>
<mdHrLv>
<ScopeCd value="005">
</ScopeCd>
</mdHrLv>
<mdContact>
<editorSource>external</editorSource>
<editorDigest>c41e0dd51f1bbe84c2621ec217455f51</editorDigest>
<rpIndName>RACHMAN RIFAI</rpIndName>
<rpOrgName>Badan Informasi Geospasial</rpOrgName>
<rpPosName>Kepala Pusat PPIG</rpPosName>
<rpCntInfo>
<cntPhone>
<voiceNum tddtty="">021-8753155</voiceNum>
<faxNum>021-8753155</faxNum>
</cntPhone>
<cntAddress addressType="">
<delPoint>Jl. Raya Bogor km 46</delPoint>
<city>Kabupaten Bogor</city>
<adminArea>Jawa Barat</adminArea>
<postCode>16911</postCode>
<country>ID</country>
<eMailAdd>info@big.go.id</eMailAdd>
</cntAddress>
<cntOnlineRes>
<linkage>https://www.big.go.id/site/contact</linkage>
<protocol>https</protocol>
<appProfile>-</appProfile>
<orName>Web BIG</orName>
<orDesc>Web BIG - Kontak</orDesc>
<orFunct>
<OnFunctCd value="002">
</OnFunctCd>
</orFunct>
</cntOnlineRes>
<cntHours>08.00-16.00</cntHours>
<cntInstr>Hubungi Saat Jam Kerja</cntInstr>
</rpCntInfo>
<editorSave>True</editorSave>
<displayName>RACHMAN RIFAI</displayName>
<role>
<RoleCd value="002">
</RoleCd>
</role>
</mdContact>
<mdChar>
<CharSetCd value="004">
</CharSetCd>
</mdChar>
<mdFileID>INDEKS_DGANALOG_JALURTERBANG_MALUKU_0025K</mdFileID>
<mdMaint>
<maintFreq>
<MaintFreqCd value="011">
</MaintFreqCd>
</maintFreq>
<maintCont>
<editorSource>external</editorSource>
<editorDigest>c41e0dd51f1bbe84c2621ec217455f51</editorDigest>
<rpIndName>RACHMAN RIFAI</rpIndName>
<rpOrgName>Badan Informasi Geospasial</rpOrgName>
<rpPosName>Kepala Pusat PPIG</rpPosName>
<rpCntInfo>
<cntPhone>
<voiceNum tddtty="">021-8753155</voiceNum>
<faxNum>021-8753155</faxNum>
</cntPhone>
<cntAddress addressType="">
<delPoint>Jl. Raya Bogor km 46</delPoint>
<city>Kabupaten Bogor</city>
<adminArea>Jawa Barat</adminArea>
<postCode>16911</postCode>
<country>ID</country>
<eMailAdd>info@big.go.id</eMailAdd>
</cntAddress>
<cntOnlineRes>
<linkage>https://www.big.go.id/site/contact</linkage>
<protocol>https</protocol>
<appProfile>-</appProfile>
<orName>Web BIG</orName>
<orDesc>Web BIG - Kontak</orDesc>
<orFunct>
<OnFunctCd value="002">
</OnFunctCd>
</orFunct>
</cntOnlineRes>
<cntHours>08.00-16.00</cntHours>
<cntInstr>Hubungi Saat Jam Kerja</cntInstr>
</rpCntInfo>
<editorSave>True</editorSave>
<displayName>RACHMAN RIFAI</displayName>
<role>
<RoleCd value="002">
</RoleCd>
</role>
</maintCont>
</mdMaint>
<dqInfo>
<dataLineage>
<statement>Data ini berasal dari alihmedia Jalur Terbang wilayah Maluku Skala 1:25000 tahun 1991 dan 1995</statement>
</dataLineage>
</dqInfo>
<contInfo>
<ImgDesc>
<contentTyp>
<ContentTypCd Sync="TRUE" value="001">
</ContentTypCd>
</contentTyp>
<covDim>
<Band>
<dimDescrp Sync="TRUE">Band_1</dimDescrp>
<maxVal Sync="TRUE">255.000000</maxVal>
<minVal Sync="TRUE">38.000000</minVal>
<bitsPerVal Sync="TRUE">16</bitsPerVal>
<valUnit>
<UOM type="length">
</UOM>
</valUnit>
</Band>
</covDim>
</ImgDesc>
</contInfo>
</metadata>
