{
 "currentVersion": 10.81,
 "serviceDescription": "True Orthophoto merupakan salah satu keluaran yang dihasilkan dari paket Data Geospasial Dasar dan Peta RupabumiIndonesia (RBI) Wilayah Darat Skala 1:5.000 Kelas 1 dari Kamera Udara Metrik dan Lidar. Akuisisi di Makassar dilakukan pada 15 Mei 2024 hingga 28 Mei 2024. Pekerjaan ini dimaksudkan untuk digunakan sebagai sumber data pemetaan rupabumi Indonesia skala 1:5.000 Kelas 1, dan dikhususkan dalam rangka pemenuhan peta dasar skala besar seluruh Indonesia. True orthophoto dibentuk dengan menggunakan data masukan berupa: Foto udara per-frame yang telah di proses Triangulasi Udara menggunakan Ground Control Point (GCP) dari hasil pengamatan GNSS di periode pekerjaan; Nilai parameter exterior orientation (EO) dari hasil proses Triangulasi Udara; Nilai parameter interior orientation (IO) dari kamera udara. Proses yang dilakukan yaitu pembentukan dense points dengan metode image matching, kemudian dense point tersebut digunakan sebagai data ketinggian untuk melakukan orthorektifikasi per frame. Mosaik dilanjutkan untuk mendapatkan orthophoto gabungan. Dilanjutkan dengan tiling pada ukuran NLP RBI 1:5.000. Proses tersebut dilakukan dengan mengggunakan perangkat lunak fotogrametri. Resolusi spasial (resampling) adalah 0,10 meter.",
 "name": "IMAGERY/FU_2024_Makasar",
 "description": "True Orthophoto merupakan salah satu keluaran yang dihasilkan dari paket Data Geospasial Dasar dan Peta RupabumiIndonesia (RBI) Wilayah Darat Skala 1:5.000 Kelas 1 dari Kamera Udara Metrik dan Lidar. Akuisisi di Makassar dilakukan pada 15 Mei 2024 hingga 28 Mei 2024. Pekerjaan ini dimaksudkan untuk digunakan sebagai sumber data pemetaan rupabumi Indonesia skala 1:5.000 Kelas 1, dan dikhususkan dalam rangka pemenuhan peta dasar skala besar seluruh Indonesia. True orthophoto dibentuk dengan menggunakan data masukan berupa: Foto udara per-frame yang telah di proses Triangulasi Udara menggunakan Ground Control Point (GCP) dari hasil pengamatan GNSS di periode pekerjaan; Nilai parameter exterior orientation (EO) dari hasil proses Triangulasi Udara; Nilai parameter interior orientation (IO) dari kamera udara. Proses yang dilakukan yaitu pembentukan dense points dengan metode image matching, kemudian dense point tersebut digunakan sebagai data ketinggian untuk melakukan orthorektifikasi per frame. Mosaik dilanjutkan untuk mendapatkan orthophoto gabungan. Dilanjutkan dengan tiling pada ukuran NLP RBI 1:5.000. Proses tersebut dilakukan dengan mengggunakan perangkat lunak fotogrametri. Resolusi spasial (resampling) adalah 0,10 meter.",
 "extent": {
  "xmin": 119.35371559908003,
  "ymin": -5.2921190252713535,
  "xmax": 119.60461745912673,
  "ymax": -4.978714508814569,
  "spatialReference": {
   "wkt": "GEOGCS[\"SRGI2013_3D\",DATUM[\"Sistem_Referensi_Geospasial_Indonesia_2013\",SPHEROID[\"WGS_1984\",6378137.0,298.257223563]],PRIMEM[\"Greenwich\",0.0],UNIT[\"Degree\",0.0174532925199433]]"
  }
 },
 "initialExtent": {
  "xmin": 119.35371559908003,
  "ymin": -5.2921190252713535,
  "xmax": 119.60461745912673,
  "ymax": -4.978714508814569,
  "spatialReference": {
   "wkt": "GEOGCS[\"SRGI2013_3D\",DATUM[\"Sistem_Referensi_Geospasial_Indonesia_2013\",SPHEROID[\"WGS_1984\",6378137.0,298.257223563]],PRIMEM[\"Greenwich\",0.0],UNIT[\"Degree\",0.0174532925199433]]"
  }
 },
 "fullExtent": {
  "xmin": 119.35371559908003,
  "ymin": -5.2921190252713535,
  "xmax": 119.60461745912673,
  "ymax": -4.978714508814569,
  "spatialReference": {
   "wkt": "GEOGCS[\"SRGI2013_3D\",DATUM[\"Sistem_Referensi_Geospasial_Indonesia_2013\",SPHEROID[\"WGS_1984\",6378137.0,298.257223563]],PRIMEM[\"Greenwich\",0.0],UNIT[\"Degree\",0.0174532925199433]]"
  }
 },
 "pixelSizeX": 9.0114702360311E-7,
 "pixelSizeY": 9.011470236031107E-7,
 "bandCount": 4,
 "pixelType": "U8",
 "minPixelSize": 0,
 "maxPixelSize": 0,
 "copyrightText": "Badan Informasi Geospasial",
 "serviceDataType": "esriImageServiceDataTypeGeneric",
 "minValues": [
  27,
  44,
  52,
  0
 ],
 "maxValues": [
  255,
  255,
  255,
  255
 ],
 "meanValues": [
  155.717232277085,
  163.5757586518478,
  159.41150475649027,
  193.9654577163313
 ],
 "stdvValues": [
  62.53629050063403,
  56.31329138430334,
  59.180035909618276,
  108.65994654403775
 ],
 "objectIdField": "OBJECTID",
 "fields": [
  {
   "name": "OBJECTID",
   "type": "esriFieldTypeOID",
   "alias": "OBJECTID",
   "domain": null
  },
  {
   "name": "Shape",
   "type": "esriFieldTypeGeometry",
   "alias": "Shape",
   "domain": null
  },
  {
   "name": "Name",
   "type": "esriFieldTypeString",
   "alias": "Name",
   "domain": null,
   "length": 200
  },
  {
   "name": "MinPS",
   "type": "esriFieldTypeDouble",
   "alias": "MinPS",
   "domain": null
  },
  {
   "name": "MaxPS",
   "type": "esriFieldTypeDouble",
   "alias": "MaxPS",
   "domain": null
  },
  {
   "name": "LowPS",
   "type": "esriFieldTypeDouble",
   "alias": "LowPS",
   "domain": null
  },
  {
   "name": "HighPS",
   "type": "esriFieldTypeDouble",
   "alias": "HighPS",
   "domain": null
  },
  {
   "name": "Category",
   "type": "esriFieldTypeInteger",
   "alias": "Category",
   "domain": {
    "type": "codedValue",
    "name": "MosaicCatalogItemCategoryDomain",
    "description": "Catalog item categories.",
    "codedValues": [
     {
      "name": "Unknown",
      "code": 0
     },
     {
      "name": "Primary",
      "code": 1
     },
     {
      "name": "Overview",
      "code": 2
     },
     {
      "name": "Unprocessed Overview",
      "code": 3
     },
     {
      "name": "Partial Overview",
      "code": 4
     },
     {
      "name": "Inactive",
      "code": 5
     },
     {
      "name": "Uploaded",
      "code": 253
     },
     {
      "name": "Incomplete",
      "code": 254
     },
     {
      "name": "Custom",
      "code": 255
     }
    ],
    "mergePolicy": "esriMPTDefaultValue",
    "splitPolicy": "esriSPTDefaultValue"
   }
  },
  {
   "name": "Tag",
   "type": "esriFieldTypeString",
   "alias": "Tag",
   "domain": null,
   "length": 100
  },
  {
   "name": "GroupName",
   "type": "esriFieldTypeString",
   "alias": "GroupName",
   "domain": null,
   "length": 100
  },
  {
   "name": "ProductName",
   "type": "esriFieldTypeString",
   "alias": "ProductName",
   "domain": null,
   "length": 100
  },
  {
   "name": "CenterX",
   "type": "esriFieldTypeDouble",
   "alias": "CenterX",
   "domain": null
  },
  {
   "name": "CenterY",
   "type": "esriFieldTypeDouble",
   "alias": "CenterY",
   "domain": null
  },
  {
   "name": "ZOrder",
   "type": "esriFieldTypeInteger",
   "alias": "ZOrder",
   "domain": null
  },
  {
   "name": "Shape_Length",
   "type": "esriFieldTypeDouble",
   "alias": "Shape_Length",
   "domain": null
  },
  {
   "name": "Shape_Area",
   "type": "esriFieldTypeDouble",
   "alias": "Shape_Area",
   "domain": null
  }
 ],
 "capabilities": "Catalog,Image,Metadata",
 "defaultMosaicMethod": "Northwest",
 "allowedMosaicMethods": "NorthWest,Center,LockRaster,ByAttribute,Nadir,Viewpoint,Seamline,None",
 "sortField": "",
 "sortValue": null,
 "sortAscending": true,
 "mosaicOperator": "First",
 "maxDownloadSizeLimit": 2048,
 "defaultCompressionQuality": 75,
 "defaultResamplingMethod": "Bilinear",
 "maxImageHeight": 4100,
 "maxImageWidth": 15000,
 "maxRecordCount": 1000,
 "maxDownloadImageCount": 20,
 "maxMosaicImageCount": 20,
 "allowRasterFunction": true,
 "rasterFunctionInfos": [
  {
   "name": "None",
   "description": "A No-Op Function.",
   "help": ""
  }
 ],
 "rasterTypeInfos": [
  {
   "name": "Raster Dataset",
   "description": "Supports all ArcGIS Raster Datasets",
   "help": ""
  }
 ],
 "mensurationCapabilities": "None",
 "hasHistograms": true,
 "hasColormap": false,
 "hasRasterAttributeTable": false,
 "minScale": 0,
 "maxScale": 0,
 "exportTilesAllowed": false,
 "hasMultidimensions": false,
 "supportsStatistics": true,
 "supportsAdvancedQueries": true,
 "editFieldsInfo": null,
 "ownershipBasedAccessControlForRasters": null,
 "allowComputeTiePoints": false,
 "useStandardizedQueries": true,
 "advancedQueryCapabilities": {
  "useStandardizedQueries": true,
  "supportsStatistics": true,
  "supportsOrderBy": true,
  "supportsDistinct": true,
  "supportsPagination": true
 },
 "spatialReference": {
  "wkt": "GEOGCS[\"SRGI2013_3D\",DATUM[\"Sistem_Referensi_Geospasial_Indonesia_2013\",SPHEROID[\"WGS_1984\",6378137.0,298.257223563]],PRIMEM[\"Greenwich\",0.0],UNIT[\"Degree\",0.0174532925199433]]"
 }
}
