View In:
ArcGIS JavaScript
ArcGIS Online Map Viewer
ArcGIS Earth
ArcMap
View Footprint In:
ArcGIS Online Map Viewer
Service Description: True Orthophoto merupakan salah satu keluaran yang dihasilkan dari paket Data Geospasial Dasar dan Peta RupabumiIndonesia (RBI) Wilayah Darat Skala 1:5.000 Kelas 1 dari Kamera Udara Metrik dan Lidar. Akuisisi di Makassar dilakukan pada 15 Mei 2024 hingga 28 Mei 2024. Pekerjaan ini dimaksudkan untuk digunakan sebagai sumber data pemetaan rupabumi Indonesia skala 1:5.000 Kelas 1, dan dikhususkan dalam rangka pemenuhan peta dasar skala besar seluruh Indonesia. True orthophoto dibentuk dengan menggunakan data masukan berupa: Foto udara per-frame yang telah di proses Triangulasi Udara menggunakan Ground Control Point (GCP) dari hasil pengamatan GNSS di periode pekerjaan; Nilai parameter exterior orientation (EO) dari hasil proses Triangulasi Udara; Nilai parameter interior orientation (IO) dari kamera udara. Proses yang dilakukan yaitu pembentukan dense points dengan metode image matching, kemudian dense point tersebut digunakan sebagai data ketinggian untuk melakukan orthorektifikasi per frame. Mosaik dilanjutkan untuk mendapatkan orthophoto gabungan. Dilanjutkan dengan tiling pada ukuran NLP RBI 1:5.000. Proses tersebut dilakukan dengan mengggunakan perangkat lunak fotogrametri. Resolusi spasial (resampling) adalah 0,10 meter.
Name: IMAGERY/FU_2024_Makasar
Description: True Orthophoto merupakan salah satu keluaran yang dihasilkan dari paket Data Geospasial Dasar dan Peta RupabumiIndonesia (RBI) Wilayah Darat Skala 1:5.000 Kelas 1 dari Kamera Udara Metrik dan Lidar. Akuisisi di Makassar dilakukan pada 15 Mei 2024 hingga 28 Mei 2024. Pekerjaan ini dimaksudkan untuk digunakan sebagai sumber data pemetaan rupabumi Indonesia skala 1:5.000 Kelas 1, dan dikhususkan dalam rangka pemenuhan peta dasar skala besar seluruh Indonesia. True orthophoto dibentuk dengan menggunakan data masukan berupa: Foto udara per-frame yang telah di proses Triangulasi Udara menggunakan Ground Control Point (GCP) dari hasil pengamatan GNSS di periode pekerjaan; Nilai parameter exterior orientation (EO) dari hasil proses Triangulasi Udara; Nilai parameter interior orientation (IO) dari kamera udara. Proses yang dilakukan yaitu pembentukan dense points dengan metode image matching, kemudian dense point tersebut digunakan sebagai data ketinggian untuk melakukan orthorektifikasi per frame. Mosaik dilanjutkan untuk mendapatkan orthophoto gabungan. Dilanjutkan dengan tiling pada ukuran NLP RBI 1:5.000. Proses tersebut dilakukan dengan mengggunakan perangkat lunak fotogrametri. Resolusi spasial (resampling) adalah 0,10 meter.
Single Fused Map Cache: false
Extent:
XMin: 119.35371559908003
YMin: -5.2921190252713535
XMax: 119.60461745912673
YMax: -4.978714508814569
Spatial Reference: GEOGCS["SRGI2013_3D",DATUM["Sistem_Referensi_Geospasial_Indonesia_2013",SPHEROID["WGS_1984",6378137.0,298.257223563]],PRIMEM["Greenwich",0.0],UNIT["Degree",0.0174532925199433]]
Initial Extent:
XMin: 119.35371559908003
YMin: -5.2921190252713535
XMax: 119.60461745912673
YMax: -4.978714508814569
Spatial Reference: GEOGCS["SRGI2013_3D",DATUM["Sistem_Referensi_Geospasial_Indonesia_2013",SPHEROID["WGS_1984",6378137.0,298.257223563]],PRIMEM["Greenwich",0.0],UNIT["Degree",0.0174532925199433]]
Full Extent:
XMin: 119.35371559908003
YMin: -5.2921190252713535
XMax: 119.60461745912673
YMax: -4.978714508814569
Spatial Reference: GEOGCS["SRGI2013_3D",DATUM["Sistem_Referensi_Geospasial_Indonesia_2013",SPHEROID["WGS_1984",6378137.0,298.257223563]],PRIMEM["Greenwich",0.0],UNIT["Degree",0.0174532925199433]]
Pixel Size X: 9.0114702360311E-7
Pixel Size Y: 9.011470236031107E-7
Band Count: 4
Pixel Type: U8
RasterFunction Infos: {"rasterFunctionInfos": [{
"name": "None",
"description": "A No-Op Function.",
"help": ""
}]}
Mensuration Capabilities: None
Has Histograms: true
Has Colormap: false
Has Multi Dimensions : false
Rendering Rule:
Min Scale: 0
Max Scale: 0
Copyright Text: Badan Informasi Geospasial
Service Data Type: esriImageServiceDataTypeGeneric
Min Values: 27, 44, 52, 0
Max Values: 255, 255, 255, 255
Mean Values: 155.717232277085, 163.5757586518478, 159.41150475649027, 193.9654577163313
Standard Deviation Values: 62.53629050063403, 56.31329138430334, 59.180035909618276, 108.65994654403775
Object ID Field: OBJECTID
Fields:
-
OBJECTID
(
type: esriFieldTypeOID, alias: OBJECTID
)
-
Shape
(
type: esriFieldTypeGeometry, alias: Shape
)
-
Name
(
type: esriFieldTypeString, alias: Name, length: 200
)
-
MinPS
(
type: esriFieldTypeDouble, alias: MinPS
)
-
MaxPS
(
type: esriFieldTypeDouble, alias: MaxPS
)
-
LowPS
(
type: esriFieldTypeDouble, alias: LowPS
)
-
HighPS
(
type: esriFieldTypeDouble, alias: HighPS
)
-
Category
(
type: esriFieldTypeInteger, alias: Category
, Coded Values:
[0: Unknown]
, [1: Primary]
, [2: Overview]
, ...6 more...
)
-
Tag
(
type: esriFieldTypeString, alias: Tag, length: 100
)
-
GroupName
(
type: esriFieldTypeString, alias: GroupName, length: 100
)
-
ProductName
(
type: esriFieldTypeString, alias: ProductName, length: 100
)
-
CenterX
(
type: esriFieldTypeDouble, alias: CenterX
)
-
CenterY
(
type: esriFieldTypeDouble, alias: CenterY
)
-
ZOrder
(
type: esriFieldTypeInteger, alias: ZOrder
)
-
Shape_Length
(
type: esriFieldTypeDouble, alias: Shape_Length
)
-
Shape_Area
(
type: esriFieldTypeDouble, alias: Shape_Area
)
Default Mosaic Method: Northwest
Allowed Mosaic Methods: NorthWest,Center,LockRaster,ByAttribute,Nadir,Viewpoint,Seamline,None
SortField:
SortValue: null
Mosaic Operator: First
Default Compression Quality: 75
Default Resampling Method: Bilinear
Max Record Count: 1000
Max Image Height: 4100
Max Image Width: 15000
Max Download Image Count: 20
Max Mosaic Image Count: 20
Allow Raster Function: true
Allow Copy: null
Allow Analysis: null
Allow Compute TiePoints: false
Supports Statistics: true
Supports Advanced Queries: true
Use StandardizedQueries: true
Raster Type Infos:
Name: Raster Dataset
Description: Supports all ArcGIS Raster Datasets
Help:
Has Raster Attribute Table: false
Edit Fields Info: null
Ownership Based AccessControl For Rasters: null
Child Resources:
Info
Histograms
Key Properties
Legend
Raster Function Infos
Supported Operations:
Export Image
Query
Identify
Compute Histograms
Compute Statistics Histograms
Get Samples
Compute Class Statistics
Query Boundary
Compute Pixel Location
Validate
Project