<?xml version="1.0" encoding="UTF-8" standalone="no"?>
<metadata xml:lang="en">
<Esri>
<CreaDate>20250220</CreaDate>
<CreaTime>04331000</CreaTime>
<ArcGISFormat>1.0</ArcGISFormat>
<SyncOnce>FALSE</SyncOnce>
<DataProperties>
<itemProps>
<itemName Sync="TRUE">FU_SULAWESI_MAKASSAR_2024_CACHE</itemName>
<imsContentType Sync="TRUE">002</imsContentType>
<nativeExtBox>
<westBL Sync="TRUE">13286394.871019</westBL>
<eastBL Sync="TRUE">13314325.140296</eastBL>
<southBL Sync="TRUE">-589955.459230</southBL>
<northBL Sync="TRUE">-554926.698118</northBL>
<exTypeCode Sync="TRUE">1</exTypeCode>
</nativeExtBox>
</itemProps>
<coordRef>
<type Sync="TRUE">Projected</type>
<geogcsn Sync="TRUE">GCS_WGS_1984</geogcsn>
<csUnits Sync="TRUE">Linear Unit: Meter (1.000000)</csUnits>
<projcsn Sync="TRUE">WGS_1984_Web_Mercator_Auxiliary_Sphere</projcsn>
<peXml Sync="TRUE">&lt;ProjectedCoordinateSystem xsi:type='typens:ProjectedCoordinateSystem' xmlns:xsi='http://www.w3.org/2001/XMLSchema-instance' xmlns:xs='http://www.w3.org/2001/XMLSchema' xmlns:typens='http://www.esri.com/schemas/ArcGIS/3.4.0'&gt;&lt;WKT&gt;PROJCS[&amp;quot;WGS_1984_Web_Mercator_Auxiliary_Sphere&amp;quot;,GEOGCS[&amp;quot;GCS_WGS_1984&amp;quot;,DATUM[&amp;quot;D_WGS_1984&amp;quot;,SPHEROID[&amp;quot;WGS_1984&amp;quot;,6378137.0,298.257223563]],PRIMEM[&amp;quot;Greenwich&amp;quot;,0.0],UNIT[&amp;quot;Degree&amp;quot;,0.0174532925199433]],PROJECTION[&amp;quot;Mercator_Auxiliary_Sphere&amp;quot;],PARAMETER[&amp;quot;False_Easting&amp;quot;,0.0],PARAMETER[&amp;quot;False_Northing&amp;quot;,0.0],PARAMETER[&amp;quot;Central_Meridian&amp;quot;,0.0],PARAMETER[&amp;quot;Standard_Parallel_1&amp;quot;,0.0],PARAMETER[&amp;quot;Auxiliary_Sphere_Type&amp;quot;,0.0],UNIT[&amp;quot;Meter&amp;quot;,1.0],AUTHORITY[&amp;quot;EPSG&amp;quot;,3857]]&lt;/WKT&gt;&lt;XOrigin&gt;-20037700&lt;/XOrigin&gt;&lt;YOrigin&gt;-30241100&lt;/YOrigin&gt;&lt;XYScale&gt;148923141.92838538&lt;/XYScale&gt;&lt;ZOrigin&gt;-100000&lt;/ZOrigin&gt;&lt;ZScale&gt;10000&lt;/ZScale&gt;&lt;MOrigin&gt;-100000&lt;/MOrigin&gt;&lt;MScale&gt;10000&lt;/MScale&gt;&lt;XYTolerance&gt;0.001&lt;/XYTolerance&gt;&lt;ZTolerance&gt;0.001&lt;/ZTolerance&gt;&lt;MTolerance&gt;0.001&lt;/MTolerance&gt;&lt;HighPrecision&gt;true&lt;/HighPrecision&gt;&lt;WKID&gt;102100&lt;/WKID&gt;&lt;LatestWKID&gt;3857&lt;/LatestWKID&gt;&lt;/ProjectedCoordinateSystem&gt;</peXml>
</coordRef>
<RasterProperties>
<General>
<PixelDepth Sync="TRUE">32</PixelDepth>
<HasColormap Sync="TRUE">FALSE</HasColormap>
<CompressionType Sync="TRUE">Mixed</CompressionType>
<NumBands Sync="TRUE">1</NumBands>
<Format Sync="TRUE">Cache/Mixed</Format>
<HasPyramids Sync="TRUE">TRUE</HasPyramids>
<SourceType Sync="TRUE">continuous</SourceType>
<PixelType Sync="TRUE">unsigned integer</PixelType>
<NoDataValue Sync="TRUE">
</NoDataValue>
</General>
</RasterProperties>
</DataProperties>
<locales>
<locale country="ID" language="ind">
<title>True Orthophoto Makassar</title>
</locale>
</locales>
<SyncDate>20250220</SyncDate>
<SyncTime>05021900</SyncTime>
<ModDate>20250220</ModDate>
<ModTime>05021900</ModTime>
</Esri>
<mdFileID>2024_ORTHOPHOTO_MAKASSAR_20241210</mdFileID>
<mdLang>
<languageCode value="ind">
</languageCode>
<countryCode Sync="TRUE" value="USA">
</countryCode>
</mdLang>
<mdChar>
<CharSetCd value="004">
</CharSetCd>
</mdChar>
<mdHrLv>
<ScopeCd value="016">
</ScopeCd>
</mdHrLv>
<mdHrLvName>True Orthophoto</mdHrLvName>
<mdContact>
<rpIndName>Ade Komara Mulyana</rpIndName>
<rpOrgName>Direktorat Pemetaan Rupabumi Wilayah Darat, Badan Informasi Geospasial</rpOrgName>
<rpPosName>Direktur Pemetaan Rupabumi Wilayah Darat</rpPosName>
<rpCntInfo>
<cntAddress>
<delPoint>Jl. Raya Jakarta Bogor KM. 46</delPoint>
<city>Cibinong</city>
<adminArea>Jawa Barat</adminArea>
<postCode>16911</postCode>
<country>ID</country>
<eMailAdd>info@big.go.id</eMailAdd>
</cntAddress>
</rpCntInfo>
<role>
<RoleCd value="003">
</RoleCd>
</role>
</mdContact>
<mdDateSt>20240101</mdDateSt>
<mdStanName>ArcGIS Metadata</mdStanName>
<mdStanVer>1.0</mdStanVer>
<dataIdInfo>
<idCitation>
<resTitle>True Orthophoto Makassar</resTitle>
<date>
<pubDate>2024-01-01T00:00:00</pubDate>
</date>
<presForm>
<PresFormCd Sync="TRUE" value="005">
</PresFormCd>
</presForm>
</idCitation>
<idAbs>True Orthophoto merupakan salah satu keluaran yang dihasilkan dari paket Data Geospasial Dasar dan Peta RupabumiIndonesia (RBI) Wilayah Darat Skala 1:5.000 Kelas 1 dari Kamera Udara Metrik dan Lidar.
Akuisisi di Makassar dilakukan pada 15 Mei 2024 hingga 28 Mei 2024. Pekerjaan ini dimaksudkan untuk digunakan sebagai sumber data pemetaan rupabumi Indonesia skala 1:5.000 Kelas 1, dan dikhususkan dalam rangka pemenuhan peta dasar skala besar seluruh Indonesia. True orthophoto dibentuk dengan menggunakan data masukan berupa: Foto udara per-frame yang telah di proses Triangulasi Udara menggunakan Ground Control Point (GCP) dari hasil pengamatan GNSS di periode pekerjaan; Nilai parameter exterior orientation (EO) dari hasil proses Triangulasi Udara; Nilai parameter interior orientation (IO) dari kamera udara. Proses yang dilakukan yaitu pembentukan dense points dengan metode image matching, kemudian dense point tersebut digunakan sebagai data ketinggian untuk melakukan orthorektifikasi per frame. Mosaik dilanjutkan untuk mendapatkan orthophoto gabungan. Dilanjutkan dengan tiling pada ukuran NLP RBI 1:5.000. Proses tersebut dilakukan dengan mengggunakan perangkat lunak fotogrametri.
Resolusi spasial (resampling) adalah 0,10 meter.</idAbs>
<idPurp>Metadata untuk True Orthophoto Makassar. True Orthophoto merupakan file foto udara yang telah dikoreksi pengaruh distorsi pergeseran relief dan efek perspektif...</idPurp>
<idCredit>Badan Informasi Geospasial</idCredit>
<idPoC>
<rpIndName>Ade Komara Mulyana</rpIndName>
<rpOrgName>Direktorat Pemetaan Rupabumi Wilayah Darat, Badan Informasi Geospasial</rpOrgName>
<rpPosName>Direktur Pemetaan Rupabumi Wilayah Darat</rpPosName>
<role>
<RoleCd value="010">
</RoleCd>
</role>
</idPoC>
<resMaint>
<maintFreq>
<MaintFreqCd value="012">
</MaintFreqCd>
</maintFreq>
</resMaint>
<otherKeys>
<keyword>True Orthophoto</keyword>
<keyword>Foto Udara</keyword>
<keyword>2D</keyword>
<keyword>2024</keyword>
<keyword>Data Geospasial Dasar</keyword>
<keyword>Kelas 1</keyword>
</otherKeys>
<searchKeys>
<keyword>True Orthophoto</keyword>
<keyword>Foto Udara</keyword>
<keyword>2D</keyword>
<keyword>2024</keyword>
<keyword>Data Geospasial Dasar</keyword>
<keyword>Kelas 1</keyword>
</searchKeys>
<resConst>
<Consts>
<useLimit>Di beberapa bagian dimungkinkaan terdapat rona warna yang tidak seragam, yang disebabkan image mosaik diambil dari beberapa foto yang pengambilannya dilakukan di waktu yang berbeda.</useLimit>
</Consts>
</resConst>
<spatRpType>
<SpatRepTypCd value="002">
</SpatRepTypCd>
</spatRpType>
<dataScale>
<equScale>
<rfDenom>5.000</rfDenom>
</equScale>
<scaleDist>
<value uom="m">0.15</value>
</scaleDist>
</dataScale>
<dataLang>
<languageCode value="ind">
</languageCode>
<countryCode Sync="TRUE" value="USA">
</countryCode>
</dataLang>
<dataChar>
<CharSetCd value="004">
</CharSetCd>
</dataChar>
<tpCat>
<TopicCatCd value="010">
</TopicCatCd>
</tpCat>
<envirDesc>Proses Orthorektifikasi menggunakan perangkat lunak fotogrametri</envirDesc>
<dataExt>
<exDesc>Extend ini merupakan besaran luas area paket Data Geospasial Dasar dan Peta RupabumiIndonesia (RBI) Wilayah Darat Skala 1:5.000 Kelas 1 dari Kamera Udara Metrik dan Lidar.</exDesc>
<geoEle>
<GeoBndBox>
<westBL>100.541667</westBL>
<eastBL>100.770833</eastBL>
<southBL>0.833333</southBL>
<northBL>1.125</northBL>
</GeoBndBox>
</geoEle>
</dataExt>
<suppInfo>Data ini merupakan salah satu keluaran yang dihasilkan dari paket Data Geospasial Dasar dan Peta RupabumiIndonesia (RBI) Wilayah Darat Skala 1:5.000 Kelas 1 dari Kamera Udara Metrik dan Lidar pada tahun anggaran 2024. Dikerjakan oleh penyedia PT. Karvak Nusa Geomatika, dengan Surat Perjanjian Nomor 26.4/SPK/PPK-DIGD 1/UM.07/1/2024.</suppInfo>
<dataExt>
<geoEle>
<GeoBndBox esriExtentType="search">
<exTypeCode Sync="TRUE">1</exTypeCode>
<westBL Sync="TRUE">119.353716</westBL>
<eastBL Sync="TRUE">119.604618</eastBL>
<northBL Sync="TRUE">-4.978714</northBL>
<southBL Sync="TRUE">-5.292119</southBL>
</GeoBndBox>
</geoEle>
</dataExt>
</dataIdInfo>
<mdMaint>
<maintFreq>
<MaintFreqCd value="009">
</MaintFreqCd>
</maintFreq>
<maintCont>
<rpIndName>Ade Komara Mulyana</rpIndName>
<rpOrgName>Direktorat Pemetaan Rupabumi Wilayah Darat, Badan Informasi Geospasial</rpOrgName>
<rpPosName>Direktur Pemetaan Rupabumi Wilayah Darat</rpPosName>
<role>
<RoleCd value="003">
</RoleCd>
</role>
</maintCont>
</mdMaint>
<mdConst>
<Consts>
<useLimit>Hanya dapat menghasilkan Informasi Geospasial (IG) 2 dimensi (2D), atau tidak menghasilkan informasi ketinggian. Penggunaan untuk keperluan pihak selain produsen diperbolehkan dengan menyebutkan sumbernya dan berdasarkan persetujuan penggunaan yang sah. Produsen data tidak bertanggung jawab atau berkewajiban apa pun atas penggunaan kembali data untuk keperluan di luar proses produksi.</useLimit>
</Consts>
</mdConst>
<dqInfo>
<dqScope>
<scpLvl>
<ScopeCd value="016">
</ScopeCd>
</scpLvl>
<scpLvlDesc>
<attribSet>Data ini merupakan DG Dasar Kelas 1. Nilai akurasi horizontal adalah 0.358 meter (Makassar).</attribSet>
</scpLvlDesc>
<scpLvlDesc>
<attribIntSet>Nilai akurasi dihitung pada ICP sejumlah 12 titik baru dan 20 titik BIG (Makassar).</attribIntSet>
</scpLvlDesc>
</dqScope>
<dataLineage>
<statement>Data true orthophoto diperoleh dari akuisisi (survei udara) menggunakan sensor foto udara digital dan sensor lidar. Data ini dapat digunakan untuk kegiatan pemetaan selain peta dasar (RBI) pada skala peta dan ketelitan geometri yang sesuai dengan spesifikasinya.</statement>
<prcStep>
<stepDesc>Proses pengolahan foto udara yang dilakaukan di pekerjaan ini adalah: manajemen file foto udara, triangulasi udara, pembentukan dense points dengan metode image matching untuk mendapatkan DSM, orthorektifikasi, mosaik dan tiling. </stepDesc>
<stepProc>
<rpIndName>PT. Karvak Nusa Geomatika</rpIndName>
<rpOrgName>PT. Karvak Nusa Geomatika</rpOrgName>
<rpPosName>Penyedia</rpPosName>
<role>
<RoleCd value="009">
</RoleCd>
</role>
</stepProc>
</prcStep>
<dataSource>
<srcDesc>Akuisisi dilakukan dengan menggunakan kamera udara metrik format medium yaitu Phase One IXU-RS-1000 yang dilengkapi dengan sensor lidar Teledyne Optech Orion H300, panjang fokus kamera 50 mm.
Akusisi di Makassar dilakukan pada ketinggian 602,77 - 749,73 meter di atas referensi tinggi, GSD yang dihasilkan 5-7 cm.</srcDesc>
</dataSource>
</dataLineage>
</dqInfo>
<refSysInfo>
<RefSystem>
<refSysID>
<identCode code="SRGI 2013 Epoch 2021.0">
</identCode>
<idCodeSpace>Referensi Horizontal</idCodeSpace>
<idVersion Sync="TRUE">6.18.3(9.3.1.2)</idVersion>
</refSysID>
</RefSystem>
</refSysInfo>
<contInfo>
<ImgDesc>
<attDesc>True Orthophoto Makassar</attDesc>
<contentTyp>
<ContentTypCd Sync="TRUE" value="001">
</ContentTypCd>
</contentTyp>
<cloudCovPer>0</cloudCovPer>
<trianInd>false</trianInd>
<radCalDatAv>true</radCalDatAv>
<camCalInAv>true</camCalInAv>
<filmDistInAv>false</filmDistInAv>
<lensDistInAv>false</lensDistInAv>
<covDim>
<Band>
<dimDescrp Sync="TRUE">Band_1</dimDescrp>
<bitsPerVal Sync="TRUE">32</bitsPerVal>
<valUnit>
<UOM type="length">
</UOM>
</valUnit>
</Band>
</covDim>
</ImgDesc>
</contInfo>
<distInfo>
<distFormat>
<formatName Sync="TRUE">Raster Dataset</formatName>
</distFormat>
</distInfo>
<spatRepInfo>
<Georect>
<cellGeo>
<CellGeoCd Sync="TRUE" value="002">
</CellGeoCd>
</cellGeo>
<numDims Sync="TRUE">2</numDims>
<tranParaAv Sync="TRUE">1</tranParaAv>
<chkPtAv Sync="TRUE">0</chkPtAv>
<cornerPts>
<pos Sync="TRUE">13286394.871019 -589955.459230</pos>
</cornerPts>
<cornerPts>
<pos Sync="TRUE">13286394.871019 -554926.698118</pos>
</cornerPts>
<cornerPts>
<pos Sync="TRUE">13314325.140296 -554926.698118</pos>
</cornerPts>
<cornerPts>
<pos Sync="TRUE">13314325.140296 -589955.459230</pos>
</cornerPts>
<centerPt>
<pos Sync="TRUE">13300360.005658 -572441.078674</pos>
</centerPt>
<axisDimension type="002">
<dimSize Sync="TRUE">187086</dimSize>
<dimResol>
<value Sync="TRUE" uom="m">0.149291</value>
</dimResol>
</axisDimension>
<axisDimension type="001">
<dimSize Sync="TRUE">234634</dimSize>
<dimResol>
<value Sync="TRUE" uom="m">0.149291</value>
</dimResol>
</axisDimension>
<ptInPixel>
<PixOrientCd Sync="TRUE" value="001">
</PixOrientCd>
</ptInPixel>
</Georect>
</spatRepInfo>
</metadata>
