<?xml version="1.0" encoding="UTF-8" standalone="no"?>
<metadata xml:lang="en">
<Esri>
<CreaDate>20250316</CreaDate>
<CreaTime>15092500</CreaTime>
<ArcGISFormat>1.0</ArcGISFormat>
<SyncOnce>FALSE</SyncOnce>
<DataProperties>
<itemProps>
<itemName Sync="TRUE">DSM_KENDARI</itemName>
<nativeExtBox>
<westBL Sync="TRUE">13629630.027935</westBL>
<eastBL Sync="TRUE">13652921.767656</eastBL>
<southBL Sync="TRUE">-457315.418699</southBL>
<northBL Sync="TRUE">-433966.276561</northBL>
<exTypeCode Sync="TRUE">1</exTypeCode>
</nativeExtBox>
<imsContentType Sync="TRUE">002</imsContentType>
</itemProps>
<coordRef>
<type Sync="TRUE">Projected</type>
<geogcsn Sync="TRUE">GCS_WGS_1984</geogcsn>
<csUnits Sync="TRUE">Linear Unit: Meter (1.000000)</csUnits>
<projcsn Sync="TRUE">WGS_1984_Web_Mercator_Auxiliary_Sphere</projcsn>
<peXml Sync="TRUE">&lt;ProjectedCoordinateSystem xsi:type='typens:ProjectedCoordinateSystem' xmlns:xsi='http://www.w3.org/2001/XMLSchema-instance' xmlns:xs='http://www.w3.org/2001/XMLSchema' xmlns:typens='http://www.esri.com/schemas/ArcGIS/10.8'&gt;&lt;WKT&gt;PROJCS[&amp;quot;WGS_1984_Web_Mercator_Auxiliary_Sphere&amp;quot;,GEOGCS[&amp;quot;GCS_WGS_1984&amp;quot;,DATUM[&amp;quot;D_WGS_1984&amp;quot;,SPHEROID[&amp;quot;WGS_1984&amp;quot;,6378137.0,298.257223563]],PRIMEM[&amp;quot;Greenwich&amp;quot;,0.0],UNIT[&amp;quot;Degree&amp;quot;,0.0174532925199433]],PROJECTION[&amp;quot;Mercator_Auxiliary_Sphere&amp;quot;],PARAMETER[&amp;quot;False_Easting&amp;quot;,0.0],PARAMETER[&amp;quot;False_Northing&amp;quot;,0.0],PARAMETER[&amp;quot;Central_Meridian&amp;quot;,0.0],PARAMETER[&amp;quot;Standard_Parallel_1&amp;quot;,0.0],PARAMETER[&amp;quot;Auxiliary_Sphere_Type&amp;quot;,0.0],UNIT[&amp;quot;Meter&amp;quot;,1.0],AUTHORITY[&amp;quot;EPSG&amp;quot;,3857]]&lt;/WKT&gt;&lt;XOrigin&gt;-20037700&lt;/XOrigin&gt;&lt;YOrigin&gt;-30241100&lt;/YOrigin&gt;&lt;XYScale&gt;148923141.92838538&lt;/XYScale&gt;&lt;ZOrigin&gt;-100000&lt;/ZOrigin&gt;&lt;ZScale&gt;10000&lt;/ZScale&gt;&lt;MOrigin&gt;-100000&lt;/MOrigin&gt;&lt;MScale&gt;10000&lt;/MScale&gt;&lt;XYTolerance&gt;0.001&lt;/XYTolerance&gt;&lt;ZTolerance&gt;0.001&lt;/ZTolerance&gt;&lt;MTolerance&gt;0.001&lt;/MTolerance&gt;&lt;HighPrecision&gt;true&lt;/HighPrecision&gt;&lt;WKID&gt;102100&lt;/WKID&gt;&lt;LatestWKID&gt;3857&lt;/LatestWKID&gt;&lt;/ProjectedCoordinateSystem&gt;</peXml>
</coordRef>
<RasterProperties>
<General>
<PixelDepth Sync="TRUE">32</PixelDepth>
<HasColormap Sync="TRUE">FALSE</HasColormap>
<CompressionType Sync="TRUE">LERC</CompressionType>
<NumBands Sync="TRUE">1</NumBands>
<Format Sync="TRUE">Cache/LERC</Format>
<HasPyramids Sync="TRUE">TRUE</HasPyramids>
<SourceType Sync="TRUE">continuous</SourceType>
<PixelType Sync="TRUE">floating point</PixelType>
<NoDataValue Sync="TRUE">
</NoDataValue>
</General>
</RasterProperties>
</DataProperties>
<SyncDate>20250317</SyncDate>
<SyncTime>13243400</SyncTime>
<ModDate>20250317</ModDate>
<ModTime>13243400</ModTime>
<locales>
<locale country="ID" language="ind">
</locale>
</locales>
<scaleRange>
<minScale>50000</minScale>
<maxScale>5000</maxScale>
</scaleRange>
</Esri>
<mdFileID>2024_dsm_lidar_kendari_20240627</mdFileID>
<mdLang>
<languageCode value="ind">
</languageCode>
<countryCode Sync="TRUE" value="GBR">
</countryCode>
</mdLang>
<mdChar>
<CharSetCd value="004">
</CharSetCd>
</mdChar>
<mdHrLv>
<ScopeCd value="005">
</ScopeCd>
</mdHrLv>
<mdHrLvName Sync="TRUE">dataset</mdHrLvName>
<mdContact>
<rpIndName>Pusat Pemetaan Rupabumi dan Toponim (PPRT)</rpIndName>
<rpOrgName>Badan Informasi Geospasial (BIG)</rpOrgName>
<rpPosName>Unit Eselon 2</rpPosName>
<rpCntInfo>
<cntAddress>
<delPoint>Jl. Raya Jakarta Bogor KM. 46</delPoint>
<city>Cibinong</city>
<adminArea>Jawa Barat</adminArea>
<postCode>16911</postCode>
<country>ID</country>
<eMailAdd>info@big.go.id</eMailAdd>
</cntAddress>
</rpCntInfo>
<role>
<RoleCd value="003">
</RoleCd>
</role>
</mdContact>
<mdDateSt Sync="TRUE">20250317</mdDateSt>
<mdStanName>ArcGIS Metadata</mdStanName>
<mdStanVer>1.0</mdStanVer>
<dataIdInfo>
<idCitation>
<resTitle Sync="TRUE">DSM_KENDARI</resTitle>
<date>
<createDate>2024-01-01T00:00:00</createDate>
</date>
<presForm>
<PresFormCd Sync="TRUE" value="005">
</PresFormCd>
</presForm>
</idCitation>
<idAbs>DSM lidar merupakan salah satu keluaran yang dihasilkan dari paket Data Geospasial Dasar dan Peta Rupabumi Indonesia (RBI) Wilayah Darat Skala 1:5.000 Kelas 1 dari Kamera Udara Metrik dan Lidar. Akuisisi di Kendari dilakukan pada 24 Maret 2024 hingga 5 Mei 2024. Pekerjaan ini dimaksudkan untuk digunakan sebagai sumber data pemetaan rupabumi Indonesia skala 1:5.000 Kelas 1, dan dikhususkan dalam rangka pemenuhan peta dasar skala besar seluruh Indonesia. DSM lidar dibentuk dengan menggunakan data masukan berupa: Data trajectory akuisisi; Data pengamatan GNSS base station dan antena di wahana; Data laser hasil akuisisi, serta Ground Control Point (GCP) dari hasil pengamatan GNSS di periode pekerjaan. DSM lidar, merupakan data ketinggian yang dibentuk dari kategori utama yaitu ground dan non-ground. Proses untuk menghasilkan DSM lidar meliputi proses strip adjustment untuk mengoreksi perbedaan ketinggian pada jalur akuisisi yang berbeda, klasifikasi otomatis dan manual untuk mengelompokkan point cloud ke kelasnya, kemudian dilakukan konversi ke bentuk raster bil. Proses tersebut dilakukan dengan mengggunakan perangkat lunak pengolah point cloud. Resolusi spasial (resampling) adalah 0,25 meter.</idAbs>
<idPurp>DSM lidar merupakan data ketinggian yang diakuisisi menggunakan sensor lidar. Data DSM lidar merupakan data raster ketinggian (tiga dimensi) yang menggambarkan...</idPurp>
<idCredit>Badan Informasi Geospasial</idCredit>
<idPoC>
<rpIndName>Pusat Pengelolaan dan Penyebarluasan Informasi Geospasial (PPIG)</rpIndName>
<rpOrgName>Badan Informasi Geospasial (BIG)</rpOrgName>
<rpPosName>Kepala Pusat</rpPosName>
<role>
<RoleCd value="010">
</RoleCd>
</role>
</idPoC>
<resMaint>
<maintFreq>
<MaintFreqCd value="012">
</MaintFreqCd>
</maintFreq>
</resMaint>
<otherKeys>
<keyword>3D</keyword>
<keyword>Lidar</keyword>
<keyword>Ketinggian</keyword>
<keyword>Data Geospasial Dasar</keyword>
<keyword>Kelas 1</keyword>
<keyword>Point Cloud</keyword>
<keyword>2024</keyword>
<keyword>LAS</keyword>
<keyword>Laser</keyword>
</otherKeys>
<searchKeys>
<keyword>3D</keyword>
<keyword>Lidar</keyword>
<keyword>Ketinggian</keyword>
<keyword>Data Geospasial Dasar</keyword>
<keyword>Kelas 1</keyword>
<keyword>Point Cloud</keyword>
<keyword>2024</keyword>
<keyword>LAS</keyword>
<keyword>Laser</keyword>
</searchKeys>
<spatRpType>
<SpatRepTypCd value="001">
</SpatRepTypCd>
</spatRpType>
<dataScale>
<equScale>
<rfDenom>5</rfDenom>
</equScale>
</dataScale>
<dataLang>
<languageCode value="ind">
</languageCode>
<countryCode Sync="TRUE" value="GBR">
</countryCode>
</dataLang>
<dataChar>
<CharSetCd value="004">
</CharSetCd>
</dataChar>
<tpCat>
<TopicCatCd value="010">
</TopicCatCd>
</tpCat>
<envirDesc Sync="TRUE"> Version 6.2 (Build 9200) ; Esri ArcGIS 10.8.1.14362</envirDesc>
<dataExt>
<exDesc>Extend ini merupakan besaran luas area paket Data Geospasial Dasar dan Peta Rupabumi Indonesia (RBI) Wilayah Darat Skala 1:5.000 Kelas 1 dari Kamera Udara Metrik dan Lidar.</exDesc>
<geoEle>
<GeoBndBox>
<exTypeCode>true</exTypeCode>
<westBL>100.541667</westBL>
<eastBL>100.770833</eastBL>
<southBL>0.833333</southBL>
<northBL>1.125</northBL>
</GeoBndBox>
</geoEle>
</dataExt>
<dataExt>
<geoEle>
<GeoBndBox>
<westBL>100.541667</westBL>
<eastBL>100.770833</eastBL>
<southBL>0.833333</southBL>
<northBL>1.125</northBL>
</GeoBndBox>
</geoEle>
</dataExt>
<suppInfo>Data ini merupakan salah satu keluaran yang dihasilkan dari paket Data Geospasial Dasar dan Peta Rupabumi Indonesia (RBI) Wilayah Darat Skala 1:5.000 Kelas 1 dari Kamera Udara Metrik dan Lidar pada tahun anggaran 2024. Dikerjakan oleh penyedia PT. Karvak Nusa Geomatika, dengan Surat Perjanjian Nomor 26.4/SPK/PPK-DIGD 1/UM.07/1/2024.</suppInfo>
<dataExt>
<geoEle>
<GeoBndBox esriExtentType="search">
<exTypeCode Sync="TRUE">1</exTypeCode>
<westBL Sync="TRUE">122.437050</westBL>
<eastBL Sync="TRUE">122.646283</eastBL>
<northBL Sync="TRUE">-3.895381</northBL>
<southBL Sync="TRUE">-4.104619</southBL>
</GeoBndBox>
</geoEle>
</dataExt>
<resConst>
<Consts>
<useLimit/>
</Consts>
</resConst>
</dataIdInfo>
<mdMaint>
<maintFreq>
<MaintFreqCd value="009">
</MaintFreqCd>
</maintFreq>
<contact>
<rpIndName>Pusat Pemetaan Rupabumi dan Toponim (PPRT)</rpIndName>
<rpOrgName>Badan Informasi Geospasial (BIG)</rpOrgName>
<rpPosName>Unit Eselon 2</rpPosName>
<role>
<RoleCd value="003">
</RoleCd>
</role>
</contact>
</mdMaint>
<mdConst>
<Consts>
<useLimit>Dapat menghasilkan informasi ketinggian, perlu pengolahan dan analisis lanjutan untuk menghasilkan informasi lain yang lebih implementatif dari data yang berupa point cloud.</useLimit>
</Consts>
</mdConst>
<dqInfo>
<dqScope>
<scpLvl>
<ScopeCd value="009">
</ScopeCd>
</scpLvl>
<scpLvlDesc>
<attribSet>Nilai akurasi horizontal adalah 0,828 meter (Kendari). Nilai akurasi vertikal adalah 0,459 meter (Kendari).</attribSet>
</scpLvlDesc>
<scpLvlDesc>
<attribIntSet> Nilai akurasi dihitung pada ICP sejumlah 12 titik (Kendari).</attribIntSet>
</scpLvlDesc>
</dqScope>
<dataLineage>
<statement>LAS data lidar diperoleh dari hasil akuisisi (survei udara) menggunakan sensor foto udara digital dan sensor lidar. Data ini dapat digunakan untuk kegiatan pemetaan selain peta dasar (RBI) pada skala peta dan ketelitan geometri yang sesuai dengan spesifikasinya.</statement>
<prcStep>
<stepDesc>Proses pengolahan data lidar yang dilakukan di pekerjaan ini adalah: manajemen file lidar, strip adjustment, klasifikasi otomatis, klasifikasi manual untuk edit, dan tiling.</stepDesc>
<stepProc>
<rpIndName>PT. Karvak Nusa Geomatika</rpIndName>
<rpOrgName>PT. Karvak Nusa Geomatika</rpOrgName>
<rpPosName>Penyedia</rpPosName>
<role>
<RoleCd value="009">
</RoleCd>
</role>
</stepProc>
</prcStep>
<dataSource>
<srcDesc>Akuisisi dilakukan dengan menggunakan kamera udara metrik Phase One IXU-RS-1000 yang dilengkapi dengan sensor lidar Teledyne Optech Orion H300. Akusisi di Kendari dilakukan pada ketinggian 452,559 - 862,496 meter di atas referensi tinggi (AGL), kerapatan lidar yang dihasilkan 16 - 161 ppm.</srcDesc>
</dataSource>
</dataLineage>
</dqInfo>
<refSysInfo>
<RefSystem>
<refSysID>
<identCode code="INAGEOID 2020 versi 2">
</identCode>
<idCodeSpace Sync="TRUE">EPSG</idCodeSpace>
</refSysID>
</RefSystem>
</refSysInfo>
<refSysInfo>
<RefSystem>
<refSysID>
<identCode code="SRGI 2013 Epoch 2021.0">
</identCode>
<idCodeSpace Sync="TRUE">EPSG</idCodeSpace>
<idVersion Sync="TRUE">8.8(9.3.1.2)</idVersion>
</refSysID>
</RefSystem>
</refSysInfo>
<contInfo>
<FetCatDesc>
<compCode>false</compCode>
<catLang>
<languageCode value="ind">
</languageCode>
</catLang>
<incWithDS>false</incWithDS>
<catCitation>
<resTitle>LAS KENDARI</resTitle>
<date>
<createDate>2024-06-27T00:00:00</createDate>
</date>
</catCitation>
</FetCatDesc>
<ImgDesc>
<contentTyp>
<ContentTypCd Sync="TRUE" value="001">
</ContentTypCd>
</contentTyp>
<covDim>
<Band>
<dimDescrp Sync="TRUE">Band_1</dimDescrp>
<maxVal Sync="TRUE">395.200549</maxVal>
<minVal Sync="TRUE">0.070332</minVal>
<bitsPerVal Sync="TRUE">32</bitsPerVal>
<valUnit>
<UOM type="length">
</UOM>
</valUnit>
</Band>
</covDim>
</ImgDesc>
</contInfo>
<distInfo>
<distFormat>
<formatName Sync="TRUE">Raster Dataset</formatName>
</distFormat>
</distInfo>
<spatRepInfo>
<Georect>
<cellGeo>
<CellGeoCd Sync="TRUE" value="002">
</CellGeoCd>
</cellGeo>
<numDims Sync="TRUE">2</numDims>
<tranParaAv Sync="TRUE">1</tranParaAv>
<chkPtAv Sync="TRUE">0</chkPtAv>
<cornerPts>
<pos Sync="TRUE">13629630.027935 -457315.418699</pos>
</cornerPts>
<cornerPts>
<pos Sync="TRUE">13629630.027935 -433966.276561</pos>
</cornerPts>
<cornerPts>
<pos Sync="TRUE">13652921.767656 -433966.276561</pos>
</cornerPts>
<cornerPts>
<pos Sync="TRUE">13652921.767656 -457315.418699</pos>
</cornerPts>
<centerPt>
<pos Sync="TRUE">13641275.897795 -445640.847630</pos>
</centerPt>
<axisDimension type="002">
<dimSize Sync="TRUE">1248125</dimSize>
<dimResol>
<value Sync="TRUE" uom="m">0.018661</value>
</dimResol>
</axisDimension>
<axisDimension type="001">
<dimSize Sync="TRUE">1251201</dimSize>
<dimResol>
<value Sync="TRUE" uom="m">0.018661</value>
</dimResol>
</axisDimension>
<ptInPixel>
<PixOrientCd Sync="TRUE" value="001">
</PixOrientCd>
</ptInPixel>
</Georect>
</spatRepInfo>
</metadata>
